BEGIN:VCALENDAR
VERSION:2.0
PRODID:-//Sveikuoliai - ECPv6.13.0//NONSGML v1.0//EN
CALSCALE:GREGORIAN
METHOD:PUBLISH
X-WR-CALNAME:Sveikuoliai
X-ORIGINAL-URL:https://sveikuoliai.lt
X-WR-CALDESC:Sveikuoliai renginiai
REFRESH-INTERVAL;VALUE=DURATION:PT1H
X-Robots-Tag:noindex
X-PUBLISHED-TTL:PT1H
BEGIN:VTIMEZONE
TZID:Europe/Vilnius
BEGIN:DAYLIGHT
TZOFFSETFROM:+0200
TZOFFSETTO:+0300
TZNAME:EEST
DTSTART:20150329T010000
END:DAYLIGHT
BEGIN:STANDARD
TZOFFSETFROM:+0300
TZOFFSETTO:+0200
TZNAME:EET
DTSTART:20151025T010000
END:STANDARD
END:VTIMEZONE
BEGIN:VEVENT
DTSTART;TZID=Europe/Vilnius:20150626T180000
DTEND;TZID=Europe/Vilnius:20150628T120000
DTSTAMP:20260421T064003
CREATED:20150408T103630Z
LAST-MODIFIED:20150408T103630Z
UID:6840-1435341600-1435492800@sveikuoliai.lt
SUMMARY:Blaivus festivalis „VAROM!“
DESCRIPTION:Trankus\, pašėlęs\, atsipalaidavęs\, kokybiškas ir …blaivus festivalis! Net jei ir skamba neįtikėtinai – tai yra tiesa! Birželio 26-28 d. „VAROM!“ vasaros festivalio organizatoriai kviečia kartu kurti naują pramogų pasaulio tradiciją – linksmintis taip\, kaip retai kada pasitaiko proga!  „VAROM!“ entuziastų komanda kviečia į neįtikėtiną trijų dienų ir dviejų ilgų naktų prie pailgio ežero šventę: „Prižadame visus festivalių atributus ir dar daugiau: daug kokybiškos „gyvos“ ir elektroninės muzikos\, meno erdves\, gausybę dirbtuvių\, saviraiškos užsiėmimų ir interaktyvios veiklos\, šokių pamokų\, kvalifikuotų lektorių paskaitų\, ypatingas erdves vaikams ir nevaržomas aktyvias pramogas. Tačiau atmosfera čia bus ypatinga – sąmoninga ir tikra – kad namo parsivežtumėte pilną glėbį tikrų įspūdžių ir pasisemtos energijos! “
URL:https://sveikuoliai.lt/renginys/blaivus-festivalis-varom/
LOCATION:Pailgio ež\, Dalios k\, Lietuva
CATEGORIES:VšĮ "Blaivios Pramogos"
ATTACH;FMTTYPE=image/png:https://sveikuoliai.lt/wp-content/uploads/2015/04/event-photo.png
ORGANIZER;CN="V%C5%A1%C4%AE 'Blaivios Pramogos'":MAILTO:simonas@varomparty.lt
END:VEVENT
BEGIN:VEVENT
DTSTART;TZID=Europe/Vilnius:20150628T150000
DTEND;TZID=Europe/Vilnius:20150628T160000
DTSTAMP:20260421T064003
CREATED:20150612T103804Z
LAST-MODIFIED:20150624T104028Z
UID:7257-1435503600-1435507200@sveikuoliai.lt
SUMMARY:Koplytėlės šventė | Prienai
DESCRIPTION:
URL:https://sveikuoliai.lt/renginys/koplyteles-svente/
LOCATION:Žvėrinčiaus miške\, sveikatingumo tako\, prie 100-metės pušies\, Lietuva
CATEGORIES:Klubų renginiai
ATTACH;FMTTYPE=image/jpeg:https://sveikuoliai.lt/wp-content/uploads/2015/06/kvietimas-kolegoms.jpg
END:VEVENT
END:VCALENDAR