BEGIN:VCALENDAR
VERSION:2.0
PRODID:-//Sveikuoliai - ECPv6.13.0//NONSGML v1.0//EN
CALSCALE:GREGORIAN
METHOD:PUBLISH
X-WR-CALNAME:Sveikuoliai
X-ORIGINAL-URL:https://sveikuoliai.lt
X-WR-CALDESC:Sveikuoliai renginiai
REFRESH-INTERVAL;VALUE=DURATION:PT1H
X-Robots-Tag:noindex
X-PUBLISHED-TTL:PT1H
BEGIN:VTIMEZONE
TZID:Europe/Vilnius
BEGIN:DAYLIGHT
TZOFFSETFROM:+0200
TZOFFSETTO:+0300
TZNAME:EEST
DTSTART:20150329T010000
END:DAYLIGHT
BEGIN:STANDARD
TZOFFSETFROM:+0300
TZOFFSETTO:+0200
TZNAME:EET
DTSTART:20151025T010000
END:STANDARD
END:VTIMEZONE
BEGIN:VEVENT
DTSTART;VALUE=DATE:20150814
DTEND;VALUE=DATE:20150817
DTSTAMP:20260420T212102
CREATED:20150707T134043Z
LAST-MODIFIED:20150727T062501Z
UID:7373-1439510400-1439769599@sveikuoliai.lt
SUMMARY:Tylos stovykla | Anykščiai
DESCRIPTION:  \nKVIEČIAME Į VIDINIŲ ATRADIMŲ KELIONĘ TYLOJE –\nRUGPJŪČIO 14-16 D. RAMAŠKONYSE \n  \nTYLOS STOVYKLA – tai autorinė\, jau daugiau nei 10 metų\, bioenergetikės Svetlanos Smertjevos rengiama stovykla.\nŠios stovyklos idėja Svetlanai atėjo kaip aiškiažinystė\, vidinis pajutimas. \nStovyklos laikas – rugpjūčio vidurys pasirinktas neatsitiktinai\, nes Žolinė – vasaros žalumos\, derliaus brandos apogėjus. Šis laikas suteikia galimybę ir žmogui\, kiekvienam iš mūsų\, susitikti su savo vidiniu pasauliu\, pažadinti ten glūdinčią brandą. \nTYLA\, PASNINKAS\, ĮVAIRIOS MEDITACIJOS BEI PRAKTIKOS (akla meditacija\, garsų maudynės\, konsteliacijos\, ugnies meditacija) sustiprins gamtos laiko skleidžiamą energiją\, leis prisipildyti jėgos bei pajausti save ir kitus. Nes per TYLĄ kalba vidus\, išgirstamas vidinis balsas\, atsiveria sielos\, širdies erdvė ir visa tai vyksta labai saugiai ir subtiliai kiekvieno ritmu.\nStovyklos vedantysis padeda susitikti su savimi\, subalansuoti vidinius poliariškumus\, transformuoti iškylančius išgyvenimus\, tai kas kelia nerimą\, diskonfortą\, skausmą. \nSTOVYKLA – GALIMYBĖ BŪTI GRUPĖJE IR KARTU PASINERTI Į SAVE\, susitinkant su savimi ir kartu jaučiant kitą žmogų iš savo pasaulio. Ieškančių\, norinčių iš tikrųjų pažinti save\, žmonių bendrystė suteiks pasitikėjimo pasauliu ir aplinka.\nStovyklos praktikos padės sustiprinti įžvalgą\, intuiciją\, pagerinti santykius su artimaisiais\, draugais\, kolegomis\, suteiks ramybės ir jėgos gyventi kasdieninį gyvenimą. \nPenktadienio vakarą meditacija įeisime į TYLĄ ir ankstų sekamdienio rytą su dėkingumu atsisveikinsime su šia TYLOS erdve. Tylą lydės pasninkas\, kurio metu gersime vandenį ir valgysime arbūzus.\nSTOVYKLA VYKS NUOSTABIAME GAMTOS PRIEGLOBSTYJE\, miško glūdumoje\, kur jungiasi ir veikia visos stichijos: grynas oras\, švari žemė\, gaivūs vandens telkiniai: upelis bei prūdas\, laužo ugnis. \n  \n \nPradžia: penktadienį iki 18 val. suvažiavimas į stovyklą.\nPabaiga: sekmadienį apie 18 val.\nMaistas: penktadienio vakarą ir sekmadienį ant laužo gamintas vegetariškas maistas\, per pasninką – arbūzai\, nuolatos – miško šulinio vanduo.\nKaina: 80 Eur gyvenant namelyje\, 70 Eur – palapinėje.\nRegistracija: iki rugpjūčio 5 d. tel. 8 613 12 282 (Kristina) arba el. p. oaze.svetana@gmail.com\, registracija patvirtinama sumokėjus avansą – 40 Eur.
URL:https://sveikuoliai.lt/renginys/tylos-stovykla-anyksciai/
LOCATION:Ramybės oazė “SVETANA”\, Ramaškonių k.\,\, Anykščiai\, Lietuva
ORGANIZER;CN="Kristina":MAILTO: oaze.svetana@gmail.com
END:VEVENT
END:VCALENDAR