BEGIN:VCALENDAR
VERSION:2.0
PRODID:-//Sveikuoliai - ECPv6.13.0//NONSGML v1.0//EN
CALSCALE:GREGORIAN
METHOD:PUBLISH
X-ORIGINAL-URL:https://sveikuoliai.lt
X-WR-CALDESC:Sveikuoliai renginiai
REFRESH-INTERVAL;VALUE=DURATION:PT1H
X-Robots-Tag:noindex
X-PUBLISHED-TTL:PT1H
BEGIN:VTIMEZONE
TZID:Europe/Vilnius
BEGIN:DAYLIGHT
TZOFFSETFROM:+0200
TZOFFSETTO:+0300
TZNAME:EEST
DTSTART:20150329T010000
END:DAYLIGHT
BEGIN:STANDARD
TZOFFSETFROM:+0300
TZOFFSETTO:+0200
TZNAME:EET
DTSTART:20151025T010000
END:STANDARD
END:VTIMEZONE
BEGIN:VEVENT
DTSTART;TZID=Europe/Vilnius:20150909T183000
DTEND;TZID=Europe/Vilnius:20150916T200000
DTSTAMP:20260421T002646
CREATED:20150902T115654Z
LAST-MODIFIED:20150902T120307Z
UID:7686-1441823400-1442433600@sveikuoliai.lt
SUMMARY:Sveikuolių tinklinis tęsiasi
DESCRIPTION:Tinklinis tęsiasi ir rudenį! Dėl didelio dalyvių susidomėjimo ir prašymų pratęsti tai\, ką pradėjome pavasarį\, darome tai\, ko prašote! Organizuojame dar 2 papildomus tinklinio super mėgėjų užsiėmimus.\nKada?\nRugsėjo 9 dieną\, 18:30 – iki kol matysim kamuolį (apie 20h)\nRugsėjo 16 dieną\, 18:30 – iki kol matysim kamuolį (apie 20h) Prisidedant prie Europos sporto savaitės. \nVieta:\nTinklinio aikštė prie Baltojo Tilto\, Vilniuje! \nAr reikia registruotis?\nTaip\, nes vietų skaičius yra labai ribotas. Brūkštelk laišką čia: simonas@ su noru dalyvauti.\n\nKaina?\n2 EUR vienas užsiėmimas \nAr reikia registruotis?\nTaip\, nes vietų skaičius yra labai ribotas\, o norinčiūjų ratas per vasarą išaugo labai ženkliai. Brūkštelk laišką čia: simonas@ su noru dalyvauti. \nAr vyks užsiėmimai žiemą?\nTAIP! Šiuo metu ieškome salės (pageidautina su smėliuku\, bet tai išaugina užsiėmimų kainą) \nRenginio nuoroda facebooke: https://www.facebook.com/events/1493714487594124/ \nOrganizatoriai: Lietuvos Sveikuolių Sąjunga \nIki susitikimo tinklinio aikštėje!
URL:https://sveikuoliai.lt/renginys/sveikuoliu-tinklinis-tesiasi/
LOCATION:Baltasis tiltas\, Vilnius\, Lietuva
CATEGORIES:Sveikuolių sąjungos renginiai
ATTACH;FMTTYPE=image/jpeg:https://sveikuoliai.lt/wp-content/uploads/2015/09/tinklinio-rudeninis-variantas.jpg
ORGANIZER;CN="Simonas Dailid%C4%97":MAILTO:simonas@
END:VEVENT
BEGIN:VEVENT
DTSTART;TZID=Europe/Vilnius:20150911T180000
DTEND;TZID=Europe/Vilnius:20150913T100000
DTSTAMP:20260421T002646
CREATED:20150814T111712Z
LAST-MODIFIED:20150814T111712Z
UID:7544-1441994400-1442138400@sveikuoliai.lt
SUMMARY:Tradicinis savanorių sąskrydis
DESCRIPTION:Kaip ir kiekvienais metais\, pasibaigus vasaros stovyklų maratonui ir ruošiantis rudens-žiemos sezonui\, kviečiame visus savanorius ar norinčius jais būti į tradicinį savanorių sąskrydį\, kuris vyks 2015 m. rugsėjo mėn. 11-13 d.d.\, Ukmergės rajone\, Skautų slėnyje (www.skautuslenis.lt). Jūsų laukia ne tik jaukus bendraminčių pasibuvimas\, pažintis su vienais geriausių Lietuvos patyriminių žygių organizatorių\, kvapą gniaužiančios komandinės veiklos\, bet ir ištvermę bei savęs pažinimą skatinantis žygis. Visada lieka šiokia tokia paslaptis smulkesnėms sąskrydžio detalėms. \nRegistracija į susitikimą vyksta iki rugsėjo 05 d. el. paštu sigita@ rašant motyvacinį laišką. Vietų skaičius ribotas. Visomis renginio organizavimo išlaidomis rūpinasi Lietuvos sveikuolių sąjunga.
URL:https://sveikuoliai.lt/renginys/tradicinis-savanoriu-saskrydis/
LOCATION:Skautų slėnis\, Sukinių km.\,\, Ukmergės raj.
ATTACH;FMTTYPE=image/jpeg:https://sveikuoliai.lt/wp-content/uploads/2015/05/IMG_8612.jpg
END:VEVENT
BEGIN:VEVENT
DTSTART;TZID=Europe/Vilnius:20150913T150000
DTEND;TZID=Europe/Vilnius:20150913T190000
DTSTAMP:20260421T002646
CREATED:20150727T111526Z
LAST-MODIFIED:20150727T111526Z
UID:7451-1442156400-1442170800@sveikuoliai.lt
SUMMARY:Intuityvios Mandalos tapyba ant drobės
DESCRIPTION:Intuityvios Mandalos kūryba padeda žmogui pajausti save kaip visumą\, pamatyti\, priimti ir spręsti vidinius konfliktus\, o kartu ir vystytis\, tobulėti kaip asmenybei. Mandalos kūrimas – tai nesudėtingas kūrybinis procesas. Norint sukurti Mandalą\, nereikia jokių specialių meninių sugebėjimų\, reikia leisti piešiniui „kurtis tarsi savaime“ – čia svarbus pats kūrybinis procesas. \nKūrybinio-patyriminio seminaro metu turėsite galimybę sukurti asmeninę ir intuityvią Mandalą – nuraminti triukšmingoje kasdienybėje įaudrintą protą\, saugiai pažvelgti į savo vidų\, „sudėlioti“ čia apsistojusius jausmus\, mintis ir emocijas\, suteikiant dėmesio ir laiko sau pačiam – pažinti savo tikruosius norus. \nŠio seminaro metu vyks:\n– paskaita „Kas tai yra Mandala ir kaip ji pasireiškia mano gyvenime“;\n– praktinis – kūrybinis – patyriminis darbas: dailės terapijos metodais paremta praktinė užduotis – intuityvios Mandalos tapyba ant drobės. \nPo seminaro su savimi išsinešite puikią dovaną sau – asmeninę intuityvią mandalą\, nutapytą ant drobės\, taip pat žinią apie galimybę savarankiškai kurti Mandalas namuose. \nSeminaro vadovė: Dainora Skrabulienė – edukologė\, dailės didaktikos specialistė\, pedagogė\, baigusi specialiuosius dailės terapijos metodų taikymo kursus. Dainora jau 12 metų dirba pedagoginį darbą\, veda dailės saviraiškos ir dailės terapijos užsiėmimus vaikams bei suaugusiems. Taip pat – viena iš VšĮ “Savęs pažinimo ir saviraiškos studijos” įkūrėjų\, nuolat besidominti savęs pažinimu\, visas įgytas žinias praktiškai taikanti savo darbe ir asmeniniame gyvenime. Dainora – sertifikuota “Eneagramos” (unikalaus savęs ir kitų pažinimo metodo) meistrė\, Lietuvos meno terapijos asociacijos narė. \nSeminaro kaina: 20 Eur (į kainą įskaičiuotos visos reikiamos priemonės).\nRegistracija patvirtinama sumokėjus pusę seminaro sumos (10 Eur) į studijos sąskaitą.\nAtsisakius atvykti į seminarą avansinis mokėjimas nėra grąžinimas. \nRekvizitai mokėjimui:\nVšĮ SAVĘS PAŽINIMO IR SAVIRAIŠKOS STUDIJA\nĮstaigos kodas: 303011485; a.s LT957044060007887398 \nDalyvių skaičius ribotas – tik iki 15 dalyvių!\nBūtina registracija iš anksto el.p.: pazinimas.saviraiska@gmail.com\nTel. pasiteirauti 868444109 \nStudijos adresas: Vytenio g. 10\, Vilnius (įėjimas iš kiemo pusės).\nwww.pazinimassaviraiska.lt\nhttps://www.facebook.com/events/1588468478084788/
URL:https://sveikuoliai.lt/renginys/intuityvios-mandalos-tapyba-ant-drobes/
LOCATION:Savęs pažinimo ir saviraiškos studija\, Vytenio g. 10\, Vilnius\, Vilnius\, Lietuva
ATTACH;FMTTYPE=image/jpeg:https://sveikuoliai.lt/wp-content/uploads/2015/07/mandalos-terapija1.jpg
ORGANIZER;CN="Dainora Skrabulien%C4%97":MAILTO:pazinimas.saviraiska@gmail.com
END:VEVENT
END:VCALENDAR