BEGIN:VCALENDAR
VERSION:2.0
PRODID:-//Sveikuoliai - ECPv6.13.0//NONSGML v1.0//EN
CALSCALE:GREGORIAN
METHOD:PUBLISH
X-WR-CALNAME:Sveikuoliai
X-ORIGINAL-URL:https://sveikuoliai.lt
X-WR-CALDESC:Sveikuoliai renginiai
REFRESH-INTERVAL;VALUE=DURATION:PT1H
X-Robots-Tag:noindex
X-PUBLISHED-TTL:PT1H
BEGIN:VTIMEZONE
TZID:Europe/Vilnius
BEGIN:DAYLIGHT
TZOFFSETFROM:+0200
TZOFFSETTO:+0300
TZNAME:EEST
DTSTART:20150329T010000
END:DAYLIGHT
BEGIN:STANDARD
TZOFFSETFROM:+0300
TZOFFSETTO:+0200
TZNAME:EET
DTSTART:20151025T010000
END:STANDARD
END:VTIMEZONE
BEGIN:VEVENT
DTSTART;TZID=Europe/Vilnius:20150921T180000
DTEND;TZID=Europe/Vilnius:20150921T200000
DTSTAMP:20260421T002632
CREATED:20150916T103808Z
LAST-MODIFIED:20150917T062137Z
UID:7756-1442858400-1442865600@sveikuoliai.lt
SUMMARY:D. Kepenio paskaita | Marijampolė
DESCRIPTION:Lietuvos sveikuolių sąjungos prezidentas Dainius Kepenis kviečia visus sveikuolius ir norinčius jais tapti į susitikimą.\nKartu pradėsime ruoštis pagrindiniam mūsų sezonui – šaltajam metų laikui. Nes\, kaip byloja tautos išminti:\n“Ruošk roges vasarą”.\n\n\nSusitikimų metu:\n– diskutuosime kaip galime gyventi sveikiau\,\n– aptarsime kelyje kylančias kliūtis ir galimus sprendimus\,\n– mankštinsimės ir maudysimės\,\n– pabūsime tarp bendraminčių.
URL:https://sveikuoliai.lt/renginys/d-kepenio-paskaita-marijampole/
LOCATION:Marijampolės savivaldybės visuomenės sveikatos biuras\, Lietuvininkų g. 18\, Marijampolė\, Lietuva
ORGANIZER;CN="Darius Savanevi%C4%8Dius":MAILTO:darius@
END:VEVENT
END:VCALENDAR