BEGIN:VCALENDAR
VERSION:2.0
PRODID:-//Sveikuoliai - ECPv6.13.0//NONSGML v1.0//EN
CALSCALE:GREGORIAN
METHOD:PUBLISH
X-WR-CALNAME:Sveikuoliai
X-ORIGINAL-URL:https://sveikuoliai.lt
X-WR-CALDESC:Sveikuoliai renginiai
REFRESH-INTERVAL;VALUE=DURATION:PT1H
X-Robots-Tag:noindex
X-PUBLISHED-TTL:PT1H
BEGIN:VTIMEZONE
TZID:Europe/Riga
BEGIN:DAYLIGHT
TZOFFSETFROM:+0200
TZOFFSETTO:+0300
TZNAME:EEST
DTSTART:20150329T010000
END:DAYLIGHT
BEGIN:STANDARD
TZOFFSETFROM:+0300
TZOFFSETTO:+0200
TZNAME:EET
DTSTART:20151025T010000
END:STANDARD
END:VTIMEZONE
BEGIN:VTIMEZONE
TZID:Europe/Vilnius
BEGIN:DAYLIGHT
TZOFFSETFROM:+0200
TZOFFSETTO:+0300
TZNAME:EEST
DTSTART:20150329T010000
END:DAYLIGHT
BEGIN:STANDARD
TZOFFSETFROM:+0300
TZOFFSETTO:+0200
TZNAME:EET
DTSTART:20151025T010000
END:STANDARD
END:VTIMEZONE
BEGIN:VEVENT
DTSTART;TZID=Europe/Riga:20150923T100000
DTEND;TZID=Europe/Riga:20150923T160000
DTSTAMP:20260420T183148
CREATED:20150921T123603Z
LAST-MODIFIED:20150921T123709Z
UID:7868-1443002400-1443024000@sveikuoliai.lt
SUMMARY:Inovaciniai sveikatinimo metodai jaunimo ugdymui | Vilnius
DESCRIPTION:Maloniai kviečiame Jus dalyvauti tarptautiniame seminare „Inovaciniai sveikatinimo metodai jaunimo ugdymui“\, kuris vyksš.m. rugsėjo 23 d.\, 10-16 val. \nKūno kultūros ir sporto departamento prie LR Vyriausybės posėdžių salėje (I a.)\, Žemaitės g. 6\, Vilnius. \nRenginio programa \nAntrojo susitikimo metu mes kartu išklausysime pranešėjų iš partnerių organizacijų pristatymus apie naudojamus inovacinius metodus bei gerąją praktiką jų organizacijose\, \npasidalinsime patirtimi ir pristatysime tarptautinio projekto\, finansuojamo Šiaurės ministrų tarybos\, tolimesnes veiklas. \nTuo pačiu dėkojame visiems\, kurie atsiuntė pasiūlymus dėl apklausos anketos skirtos jaunimui ir tikimės atvykstant visų dalyvavusių Birštono seminare. \n  \nPrašome registruotis ir iki susitikimų.
URL:https://sveikuoliai.lt/renginys/inovaciniai-sveikatinimo-metodai-jaunimo-ugdymui-vilnius/
LOCATION:Kūno kultūros ir sporto departamento\, Žemaitės g. 6\, Vilnius\, Lietuva
ORGANIZER;CN="Eligijus Valskis":MAILTO:info@lpsa.lt
END:VEVENT
BEGIN:VEVENT
DTSTART;TZID=Europe/Vilnius:20150923T173000
DTEND;TZID=Europe/Vilnius:20150923T193000
DTSTAMP:20260420T183148
CREATED:20150916T103438Z
LAST-MODIFIED:20150916T103438Z
UID:7752-1443029400-1443036600@sveikuoliai.lt
SUMMARY:D. Kepenio paskaita | Alytus
DESCRIPTION:Lietuvos sveikuolių sąjungos prezidentas Dainius Kepenis kviečia visus sveikuolius ir norinčius jais tapti į susitikimą.\nKartu pradėsime ruoštis pagrindiniam mūsų sezonui – šaltajam metų laikui. Nes\, kaip byloja tautos išminti:\n“Ruošk roges vasarą”.\n\n\nSusitikimų metu:\n– diskutuosime kaip galime gyventi sveikiau\,\n– aptarsime kelyje kylančias kliūtis ir galimus sprendimus\,\n– mankštinsimės ir maudysimės.\n– pabūsime tarp bendraminčių
URL:https://sveikuoliai.lt/renginys/d-kepenio-paskaita-alytus/
LOCATION:Alytaus miesto visuomenės sveikatos biuras\, Daugų g. 5a\, Alytus\, Lietuva
ORGANIZER;CN="Darius Savanevi%C4%8Dius":MAILTO:darius@
END:VEVENT
END:VCALENDAR