BEGIN:VCALENDAR
VERSION:2.0
PRODID:-//Sveikuoliai - ECPv6.13.0//NONSGML v1.0//EN
CALSCALE:GREGORIAN
METHOD:PUBLISH
X-WR-CALNAME:Sveikuoliai
X-ORIGINAL-URL:https://sveikuoliai.lt
X-WR-CALDESC:Sveikuoliai renginiai
REFRESH-INTERVAL;VALUE=DURATION:PT1H
X-Robots-Tag:noindex
X-PUBLISHED-TTL:PT1H
BEGIN:VTIMEZONE
TZID:Europe/Riga
BEGIN:DAYLIGHT
TZOFFSETFROM:+0200
TZOFFSETTO:+0300
TZNAME:EEST
DTSTART:20150329T010000
END:DAYLIGHT
BEGIN:STANDARD
TZOFFSETFROM:+0300
TZOFFSETTO:+0200
TZNAME:EET
DTSTART:20151025T010000
END:STANDARD
END:VTIMEZONE
BEGIN:VEVENT
DTSTART;TZID=Europe/Riga:20150925T180000
DTEND;TZID=Europe/Riga:20150925T200000
DTSTAMP:20260420T183145
CREATED:20150923T115143Z
LAST-MODIFIED:20150923T115143Z
UID:7929-1443204000-1443211200@sveikuoliai.lt
SUMMARY:Visos ribos tik tavo prote | Marijampolė
DESCRIPTION:Žmogus gali tapti bet kuo jei tai neprieštarauja jo Tikrajam Aš. Visi turi teisę ir galimybes tapti laimingais ir nuo fatalistinio likimo nepriklausančiais žaidėjais gyvenimo šachmatų lentoje. Tai ne taip jau ir sunku jei žinai trumpiausius kelius. \nTemos: \nMeilė sau ir Evoliucijos Principas;\nPenkios taisyklės paverčiančios žmogų vergu;\nPenkios sekmės kolonos;\nMentalinių struktūrų analizė; \nSatsangas su Martynu Driuku \nApie Martyną Driuką – http://www.mahamati.lt/#!about/c10fk \nKaina (energijų mainai) – Savanoriška auka. Teisingas paaukojimas tai duoti daugiau nei protui patinka\, bet tiek kad išejus nesijaustum apiplėštas.
URL:https://sveikuoliai.lt/renginys/visos-ribos-tik-tavo-prote-marijampole/
LOCATION:Lietuvininkų g. 18\, Lietuvininkų g. 18\, Marijampolė\, Lietuva
ATTACH;FMTTYPE=image/jpeg:https://sveikuoliai.lt/wp-content/uploads/2015/09/M.Driuko_seminaras.jpg
END:VEVENT
END:VCALENDAR