BEGIN:VCALENDAR
VERSION:2.0
PRODID:-//Sveikuoliai - ECPv6.13.0//NONSGML v1.0//EN
CALSCALE:GREGORIAN
METHOD:PUBLISH
X-ORIGINAL-URL:https://sveikuoliai.lt
X-WR-CALDESC:Sveikuoliai renginiai
REFRESH-INTERVAL;VALUE=DURATION:PT1H
X-Robots-Tag:noindex
X-PUBLISHED-TTL:PT1H
BEGIN:VTIMEZONE
TZID:Europe/Riga
BEGIN:DAYLIGHT
TZOFFSETFROM:+0200
TZOFFSETTO:+0300
TZNAME:EEST
DTSTART:20150329T010000
END:DAYLIGHT
BEGIN:STANDARD
TZOFFSETFROM:+0300
TZOFFSETTO:+0200
TZNAME:EET
DTSTART:20151025T010000
END:STANDARD
END:VTIMEZONE
BEGIN:VEVENT
DTSTART;TZID=Europe/Riga:20150926T090000
DTEND;TZID=Europe/Riga:20150927T180000
DTSTAMP:20260420T200257
CREATED:20150921T123210Z
LAST-MODIFIED:20150921T123210Z
UID:7866-1443258000-1443376800@sveikuoliai.lt
SUMMARY:Seminaras "Sveikas ir laimingas žmogus yra tas\, kuris pažįsta save ir yra tikras dėl savo gyvenimo kelio" | Anykščiai
DESCRIPTION:Rugsėjo 26-27 d. vyks asmenybės pažinimo ir efektyvaus savęs tobulinimo seminarų ciklo “PAŽINK SAVE” penktasis seminaras tema:\n“Sveikas ir laimingas žmogus yra tas\, kuris pažįsta save ir yra tikras dėl savo gyvenimo kelio”. \nJo metu bus nagrinėjamos šios temos:\nSveikata ir ligų atsiradimo priežastys;\nSubasmenybių pasireiškimas kūno simptomuose;\nVidinio kontrolieriaus vaidmuo ligų atsiradime;\nĮtampa ir atsipalaidavimas;\nVidinio kūrėjo ir griovėjo koncepcija;\nPagalbą kovojant su kenksmingais įpročiais (rūkymu\, nutukimu ir kitais); \nSusitikimas su ligų simptomais\, kurie prabyla balsais konsteliacijų metu.\nSeminarą sudaro teoriniai ir praktiniai užsiėmimai (įvairaus pobūdžio konsteliacijos). \nUžsiėmimų metu susipažinsite su pažangiausia subasmenybių psichologijos kryptimi laikomu metodu „DIALOGAS SU BALSAIS”. \nKursą veda transpersonalinės psichologijos lektorė\, bioenergetikė Svetlana Smertjeva.\nBūtina išankstinė registracija.
URL:https://sveikuoliai.lt/renginys/seminaras-sveikas-ir-laimingas-zmogus-yra-tas-kuris-pazista-save-ir-yra-tikras-del-savo-gyvenimo-kelio-anyksciai/
LOCATION:Ramybės oazė “SVETANA”\, Ramaškonių k.\,\, Anykščiai\, Lietuva
ATTACH;FMTTYPE=image/jpeg:https://sveikuoliai.lt/wp-content/uploads/2015/09/pakopa_V.jpg
ORGANIZER;CN="Kristina Kiau%C5%A1ait%C4%97":MAILTO:oaze.svetana@gmail.com
END:VEVENT
BEGIN:VEVENT
DTSTART;TZID=Europe/Riga:20150927T110000
DTEND;TZID=Europe/Riga:20150927T160000
DTSTAMP:20260420T200257
CREATED:20150827T102406Z
LAST-MODIFIED:20150921T114611Z
UID:7673-1443351600-1443369600@sveikuoliai.lt
SUMMARY:Sveiko maisto šventė „Lietuvaitė šeimininkė“ Kaune
DESCRIPTION:2015 m. rugsėjo 27 d. Lietuvos sveikuolių sąjunga rengia tradicinę sveiko maisto šventę. Šventė vyks Kaune\, Pažaislyje\, “Svetingumo komplekse Monte Pacis” (T.Masiulio 31.). \nŠių metų šventės tema –„Pasninkas- atgaiva kūnui ir sielai“. \nKviečiame visus sveika gyvensena besidominčius žmones\, valstybines ir visuomenines organizacijas\, sveikatingumo klubus\, renginių organizatorius\, maitinimo paslaugas teikiančias įmones\, ugdymo įstaigas ir verslo įmones\, ieškančias išskirtinių idėjų savo veiklai\, aktyviai dalyvauti šventėje. \nProgramoje: \n12.00  Parodos konkurso iškilmingas atidarymas\, šeimininkių prisistatymas\, muzikos ansamblis „Ainiai“ (Karietų aikštėje) \n12.30 – 15.30  Paroda – konkursas\, putrų degustacija\, edukacinė programa: \n\n„Naminė duona su pluta“- organizuoja „Kartenos naminė duona“\n„Šeimos stalui – skonių įvairovė“- Žolinčių akademijos lektorė V. Vedlugienė\nŽolelės – arbatos\, prieskoniai“ – žolinčius M.Lasinskas\n\n14.00 – 15.00 val. Konferencija „Pasninko tikslai ir nauda“ (Fundatorių salėje) \n\n„Dvasinė askezė\, kaip gyvenimo vertybė“- filosofijos m. dr. B.Gudaitytė\n„ Pasninko idėja istorinėje LDK virtuvėje“- VU prof. R. Laužikas\n\n15.30 Šeimininkių apdovanojimai\, šventės  uždarymas\, groja trimitininkas Giedrius Labanauskas (Karietų aikštėje)\n16.00 – Pasaulinė turizmo diena svetingumo komplekse MONTE PACIS \nNe tik seilę varvinsim\, bet ir patys duonelę kepsim\, gaminsim ir ragausim. Ragauti padės  žolintė Danutė (D.Kunčienė) ir berns Untanikos (A.Laurinkevičius.) \nŠoksim\, dainuosim\, minkles minsim su etnologe Gražina Kadžyte. \nŠventės vedėjai Gražina Viktorija Petrošienė ir Vladas Vitkauskas \nRegistracija konkursų ir šventinės mugės dalyviams vykdoma elektroniniu paštu: simonas@ užpildžius anketą konkurso dalyviams arba dalyvaujantiems-mugėje\, norintiems prekiauti mugės metu. \nRenginio nuostatus rasite: Sveiko maisto šventes nuostatai 2015.
URL:https://sveikuoliai.lt/renginys/sveiko-maisto-svente/
LOCATION:Pažaislio kultūros ir turizmo centras\, T. Masiulio g\, 31\, Kaunas
CATEGORIES:Sveikuolių sąjungos renginiai
ATTACH;FMTTYPE=image/jpeg:https://sveikuoliai.lt/wp-content/uploads/2015/08/sveiko-maisto-svente.jpg
ORGANIZER;CN="Lietuvos sveikuoli%C5%B3 s%C4%85junga":MAILTO:simonas@sveikuoliai.lt
END:VEVENT
END:VCALENDAR