BEGIN:VCALENDAR
VERSION:2.0
PRODID:-//Sveikuoliai - ECPv6.13.0//NONSGML v1.0//EN
CALSCALE:GREGORIAN
METHOD:PUBLISH
X-WR-CALNAME:Sveikuoliai
X-ORIGINAL-URL:https://sveikuoliai.lt
X-WR-CALDESC:Sveikuoliai renginiai
REFRESH-INTERVAL;VALUE=DURATION:PT1H
X-Robots-Tag:noindex
X-PUBLISHED-TTL:PT1H
BEGIN:VTIMEZONE
TZID:Europe/Riga
BEGIN:DAYLIGHT
TZOFFSETFROM:+0200
TZOFFSETTO:+0300
TZNAME:EEST
DTSTART:20150329T010000
END:DAYLIGHT
BEGIN:STANDARD
TZOFFSETFROM:+0300
TZOFFSETTO:+0200
TZNAME:EET
DTSTART:20151025T010000
END:STANDARD
END:VTIMEZONE
BEGIN:VEVENT
DTSTART;TZID=Europe/Riga:20151008T173000
DTEND;TZID=Europe/Riga:20151008T193000
DTSTAMP:20260420T171735
CREATED:20151005T113602Z
LAST-MODIFIED:20151005T113658Z
UID:8068-1444325400-1444332600@sveikuoliai.lt
SUMMARY:Paprasti regėjimo atstatymo ir stiprinimo būdai  | Radviliškis
DESCRIPTION:Kalbėsime apie: \n– akies veikimo principus; \n– kodėl labai pavojinga nešioti akinius; \n– pagrindines regėjimo blogėjimo priežastis; \n– kodėl akių mankšta ir pratimai neduoda ilgalaikio rezultato praktikuojantiems; \n– V.H. Beitso 30 metų tyrinėjimų ir veiklos rezultatus grąžinant žmonėms regėjimą natūraliais būdais; \n– praktinius\, natūralius ir nemedicininius metodus leidžiančius atstatyti ir stiprinti regėjimą\,  \n– gyvenimo būdo įtaką regėjimo aštrumui; \nPaskaitą veda: \nSigita Kriaučiūnienė\, Lietuvos sveikuolių sąjungos viceprezidentė\, regėjimo atstatymo stovyklų Lietuvoje pradininkė\, sveikatingumo stovyklų vaikams\, jaunimui ir šeimoms organizatorė\, lektorė. Prieš penkis metus atsisakiusi akinių ir lęšių\, sustiprinusi savo regėjimą\, Sigita šiuo metu dalinasi patirtimi ir visame pasaulyje žinomo oftalmologo V. H. Beitso paliktomis žiniomis\, leidžiančiomis sustiprinti ar net visiškai atsistatyti gerą regėijimą. \nPaskaitos trukmė: 2 val.
URL:https://sveikuoliai.lt/renginys/paprasti-regejimo-atstatymo-ir-stiprinimo-budai-radviliskis/
LOCATION:Radviliškio viešoji biblioteka\, Dariaus ir Girėno g. 9\, Radviliškis
ATTACH;FMTTYPE=image/png:https://sveikuoliai.lt/wp-content/uploads/2015/10/akiniai-2015-101.png
END:VEVENT
END:VCALENDAR