BEGIN:VCALENDAR
VERSION:2.0
PRODID:-//Sveikuoliai - ECPv6.13.0//NONSGML v1.0//EN
CALSCALE:GREGORIAN
METHOD:PUBLISH
X-ORIGINAL-URL:https://sveikuoliai.lt
X-WR-CALDESC:Sveikuoliai renginiai
REFRESH-INTERVAL;VALUE=DURATION:PT1H
X-Robots-Tag:noindex
X-PUBLISHED-TTL:PT1H
BEGIN:VTIMEZONE
TZID:Europe/Riga
BEGIN:DAYLIGHT
TZOFFSETFROM:+0200
TZOFFSETTO:+0300
TZNAME:EEST
DTSTART:20190331T010000
END:DAYLIGHT
BEGIN:STANDARD
TZOFFSETFROM:+0300
TZOFFSETTO:+0200
TZNAME:EET
DTSTART:20191027T010000
END:STANDARD
END:VTIMEZONE
BEGIN:VEVENT
DTSTART;TZID=Europe/Riga:20191011T170000
DTEND;TZID=Europe/Riga:20191013T130000
DTSTAMP:20260422T124625
CREATED:20190917T100045Z
LAST-MODIFIED:20190917T100045Z
UID:21434-1570813200-1570971600@sveikuoliai.lt
SUMMARY:Rudeninis savanorių žygis
DESCRIPTION:Tradicinis savanorių žygis. Tradiciškai informacijos nėra\, viskas paslaptis\, bet dalį jos gaus užsiregistravę dalyviai artėjant žygiui. \nRegistruotis gali visi savanoriavę mūsų renginiuose ir norintys juose savanoriauti. \nRegistracija patvirtinama tik pervedus registracijos mokestį (20 eur) \n\n\n\n\n\n\n\nSVARBU: registracija įsigalioja atlikus išankstinį mokėjimą už žygį\, ne vėliau kaip per 24 val. nuo registracijos. \nSąskaitos rekvizitai:\nLietuvos sveikuolių sąjunga\, įmonės kodas: 191616227\nBanko sąskaitos Nr.: LT267300010151973368
URL:https://sveikuoliai.lt/renginys/rudeninis-savanoriu-zygis/
CATEGORIES:Sveikuolių sąjungos renginiai
ATTACH;FMTTYPE=image/jpeg:https://sveikuoliai.lt/wp-content/uploads/2019/09/rudeninis-savanorių-žygis.jpg
END:VEVENT
END:VCALENDAR