BEGIN:VCALENDAR
VERSION:2.0
PRODID:-//Sveikuoliai - ECPv6.13.0//NONSGML v1.0//EN
CALSCALE:GREGORIAN
METHOD:PUBLISH
X-WR-CALNAME:Sveikuoliai
X-ORIGINAL-URL:https://sveikuoliai.lt
X-WR-CALDESC:Sveikuoliai renginiai
REFRESH-INTERVAL;VALUE=DURATION:PT1H
X-Robots-Tag:noindex
X-PUBLISHED-TTL:PT1H
BEGIN:VTIMEZONE
TZID:Europe/Riga
BEGIN:DAYLIGHT
TZOFFSETFROM:+0200
TZOFFSETTO:+0300
TZNAME:EEST
DTSTART:20200329T010000
END:DAYLIGHT
BEGIN:STANDARD
TZOFFSETFROM:+0300
TZOFFSETTO:+0200
TZNAME:EET
DTSTART:20201025T010000
END:STANDARD
END:VTIMEZONE
BEGIN:VEVENT
DTSTART;TZID=Europe/Riga:20200216T110000
DTEND;TZID=Europe/Riga:20200216T140000
DTSTAMP:20260423T143202
CREATED:20200204T164153Z
LAST-MODIFIED:20200204T185924Z
UID:23396-1581850800-1581861600@sveikuoliai.lt
SUMMARY:Bėgimas su laiminga pabaiga
DESCRIPTION:Vilniuje\, 2020 vasario 16 dieną\, vyks 16km ir 6km bėgimas skirtas Lietuvos Valstybės atkūrimo dienai paminėti. \nŠi iniciatyva gimė ekspromtu\, 30 dienų eketės iššūkio metu. \nĮveikti bus galima 16km arba 6km distancijas\, o finišavus laukia laiminga pabaiga – ledinė Žaliųjų ežerų eketė. \nDaugiau informacijos – jau netrukus. \n  \nViskas organizuojama entuziazmu ir gera žmonių valia. \nAčiū:\nDizaineriui Arnui Sezanovui už sukurtą dizainą\,\nSpaudos departamentui už atspausdintus plakatus\, skrajutes. \nGalbūt nori prisidėtu pagamindamas medalius ar kuo kitu – parašyk simonas@ \nREGISTRACIJA
URL:https://sveikuoliai.lt/renginys/begimas-su-laiminga-pabaiga/
LOCATION:Žalieji ežerai\, Vilnius\, 08317\, Lietuva
ATTACH;FMTTYPE=image/jpeg:https://sveikuoliai.lt/wp-content/uploads/2020/02/Vasario16_FB_cover_820x360px.jpg
ORGANIZER;CN="Lietuvos sveikuoli%C5%B3 s%C4%85junga":MAILTO:simonas@sveikuoliai.lt
END:VEVENT
END:VCALENDAR