BEGIN:VCALENDAR
VERSION:2.0
PRODID:-//Sveikuoliai - ECPv6.13.0//NONSGML v1.0//EN
CALSCALE:GREGORIAN
METHOD:PUBLISH
X-ORIGINAL-URL:https://sveikuoliai.lt
X-WR-CALDESC:Sveikuoliai renginiai
REFRESH-INTERVAL;VALUE=DURATION:PT1H
X-Robots-Tag:noindex
X-PUBLISHED-TTL:PT1H
BEGIN:VTIMEZONE
TZID:Europe/Vilnius
BEGIN:DAYLIGHT
TZOFFSETFROM:+0200
TZOFFSETTO:+0300
TZNAME:EEST
DTSTART:20230326T010000
END:DAYLIGHT
BEGIN:STANDARD
TZOFFSETFROM:+0300
TZOFFSETTO:+0200
TZNAME:EET
DTSTART:20231029T010000
END:STANDARD
END:VTIMEZONE
BEGIN:VEVENT
DTSTART;TZID=Europe/Vilnius:20230710T150000
DTEND;TZID=Europe/Vilnius:20230716T120000
DTSTAMP:20260425T034938
CREATED:20220727T173822Z
LAST-MODIFIED:20230523T173519Z
UID:37655-1689001200-1689508800@sveikuoliai.lt
SUMMARY:Vaikų ir jaunimo stovykla "Laisvės kodas - 2023"
DESCRIPTION:Vienintelė sveikatingumo ugdymo stovykla Lietuvoje\, kurioje vaikai ir jaunimas atranda naujas vertybines nuostatas\, keičia požiūrį į gyvenseną\, atranda naujus bičiulius ir autoritetus.\nPadovanokite savo vaikui galimybę pajusti\, kad sveika gyvensena – „veža“!!!\n\nJaunimo įspūdžius iš stovyklų “Laisvės kodas” rasite mūsų puslapyje \n\n \n\n \n\nVaikų ir jaunimo stovykla “Laisvės kodas” tai septynių dienų stovykla smagiam ir kūrybingam laiko leidimui\, praktiniam išgirstų sveikos gyvensenos žinių pritaikymui. Dažnam jaunuoliui tokia stovykla tampa nauju entuziazmu\, nauja pradžia\, nauju startu gyvenime. O ką jau bekalbėti apie naujus draugus… \nStovykloje  jaunuoliai patrauklia aktyvių ir loginių žaidimų forma praktiškai mokomi: \n\natminties ir susikaupimo gerinimo metodų;\natsipalaidavimo\, stresų ir neigiamų emocijų valdymo technikų;\nvalgymo kultūros;\nfizinio pratimų\, koreguojančios gimnastikos;\natpalaiduojančių kvėpavimo\, juoko\, garso\, muzikos ir šokio technikų;\ngrūdinimosi principų.\n\nFormuojamos dvi amžiaus grupės (vyks skirtingos programos): 10-12 m. vaikai ir 13-18 m. paaugliai. \n \nPROGRAMOJE:\n\nnaktiniai ir dieniniai žygiai;\nmaudynės ir šėlsmas ežere;\nįvairūs šokiai ir diskoteka;\nmankštos ryte bei nuotaikingi sportiniai žaidimai ir varžybos;\nskanus ir sveikas maistas;\nkomfortas nameliuose;\njauni\, išmintingi ir atsidavę vadovai;\ngarantuoti nauji draugai.\n\nVaikai ir jaunimas išmoksta:\n\npažinti save;\nanalizuoti savo pojūčius\, kontroliuoti neigiamas emocijas;\nkaip save išlaikyti energingu ir pakilios nuotaikos;\ngirdėti tylą;\ntinkamai valgyti;\natsipalaiduoti ir susikoncentruoti;\ngerbti ir mylėti save bei aplinkinius.\n\n\nRegistracija į stovyklą vykdoma iki 2023 m. liepos 9 d. užpildžius dalyvio registracijos anketą. \nDalyvio mokestis \nregistruojantis iki 2022 m. spalio 10 d.\nNariams: 327 EUR\nNe nariams: 350 EUR \nregistruojantis nuo 2022 m. spalio 11 d. iki 2023 m. liepos 9 d.:\nNariams: 427 EUR\nNe nariams: 450 EUR \nTaikomos nuolaidos vykstant dviems ir daugiau asmenų iš vienos šeimos. \nDėl nenumatytų priežasčių ar neatvykus į stovyklą 100 EUR iš registracijos mokesčio negrąžinami. \nREGISTRUOTIS DABAR\nVaikų ir jaunimo stovykla vyksta jaukioje ir modernioje\, keturių gandrų įvertinimą turinčioje Dvarčėnų dvaro sodyboje Alytaus rajone\, šalia Daugų miestelio. Daugiau informacijos apie sodybą rasite www.dvarcenudvaras.lt. \nDaugiau informacijos:\negle@\, tel: 8 699 55255
URL:https://sveikuoliai.lt/renginys/vaiku-ir-jaunimo-stovykla-laisves-kodas-2023/
CATEGORIES:Sveikuolių sąjungos renginiai
END:VEVENT
END:VCALENDAR