BEGIN:VCALENDAR
VERSION:2.0
PRODID:-//Sveikuoliai - ECPv6.13.0//NONSGML v1.0//EN
CALSCALE:GREGORIAN
METHOD:PUBLISH
X-ORIGINAL-URL:https://sveikuoliai.lt
X-WR-CALDESC:Sveikuoliai renginiai
REFRESH-INTERVAL;VALUE=DURATION:PT1H
X-Robots-Tag:noindex
X-PUBLISHED-TTL:PT1H
BEGIN:VTIMEZONE
TZID:Europe/Vilnius
BEGIN:DAYLIGHT
TZOFFSETFROM:+0200
TZOFFSETTO:+0300
TZNAME:EEST
DTSTART:20230326T010000
END:DAYLIGHT
BEGIN:STANDARD
TZOFFSETFROM:+0300
TZOFFSETTO:+0200
TZNAME:EET
DTSTART:20231029T010000
END:STANDARD
END:VTIMEZONE
BEGIN:VEVENT
DTSTART;TZID=Europe/Vilnius:20230724T080000
DTEND;TZID=Europe/Vilnius:20230730T170000
DTSTAMP:20260425T193513
CREATED:20210830T123443Z
LAST-MODIFIED:20230628T135613Z
UID:33166-1690185600-1690736400@sveikuoliai.lt
SUMMARY:Laukinė suaugusiųjų stovykla "Laukiniai 2023"
DESCRIPTION:Keletą metų organizavome tokią stovyklą vien jaunimui\, bet sulaukdavome prašymų ir komentarų iš tėvų\, kad ir jie norėtų į tokią stovyklą. Todėl mes čia\, su suaugusiems arba paprasčiau sakant be amžiaus limito pritaikyta laukine stovykla. Jokių išlygų\, su visais laukiniais atributais! Tai savaitės stovykla be interneto ir telefonų smagiam ir kūrybingam laiko leidimui\, mokytis gyventi su gamta\, būryje žmonių\, kur visi vieni už kitus atsakingi. Tai išgyvenimo gamtoje žinių patikrinimas\, gerinimas ir jų pritaikymas praktiškai. \nŽygio Nemunu preliminarus maršrutas \nDažnam žmogui tokia stovykla tampa nauju entuziazmu\, nauja pradžia\, nauju startu gyvenime. Retas šių laikų žmogus tiek dienų yra buvęs gryname ore. Čia jūs ne tik kvėpuosite grynu oru\, bet ir sveikai maitinsitės bei miegosite tyrame ore. O ką jau bekalbėti apie naujus draugus ir įsimintinus vasaros nuotykius… \n\n		\n		\n			\n				\n			\n			\n				\n			\n			\n				\n			\n			\n				\n			\n			\n				\n			\n			\n				\n			\n			\n				\n			\n			\n				\n			\n			\n				\n			\n			\n				\n			\n			\n				\n			\n			\n				\n			\n			\n				\n			\n			\n				\n			\n			\n				\n			\n			\n				\n			\n			\n				\n			\n			\n				\n			\n			\n				\n			\n			\n				\n			\n			\n				\n			\n			\n				\n			\n			\n				\n			\n			\n				\n			\n			\n				\n			\n			\n				\n			\n			\n				\n			\n			\n				\n			\n			\n				\n			\n			\n				\n			\n			\n				\n			\n			\n		\n\n \nŽygyje  jūsų laukia: \n\napie 230km plaukimo\ndieniniai\, naktiniai žygiai;\nkomandą formuojantys žaidimai;\nišgyvenimo gamtoje pamokos;\nmaudynės ežeruose\, upėse;\nant laužo gamintas sveikas ir skanus maistas;\nIšmintingi vadovai;\nsavęs ir savo galimybių pažinimas;\npastogės įrengimas.\n\n\nŠi stovykla skirta suaugusiems\, jaunimo laukinė stovykla čia:  https:/renginys/laukine-stovykla-laukinis-jaunimas-2022/ \nFilmukai iš praėjusių stovyklų: \n \n \n  \n\n\n\n\n\n\n\n\n\n\n\n\n\n\n\n\n \nKaina \nRegistruojantis iki kovo 1 d.: 250 EUR\nRegistruojantis iki gegužės 1 d.: 280 EUR\nRegistruojantis iki birželio 1 d.: 300 EUR\nRegistruojantis iki liepos 1 d.: 320 EUR \n\nRegistracija į stovyklą vykdoma iki 2023 m. liepos 1 d. užpildžius dalyvio registracijos anketą ir pervedus 50 proc. arba visą dalyvio mokestį. \nRegistruotis dabar!
URL:https://sveikuoliai.lt/renginys/laukine-suaugusiuju-stovykla-laukiniai-2023/
CATEGORIES:Sveikuolių sąjungos renginiai
ATTACH;FMTTYPE=image/jpeg:https://sveikuoliai.lt/wp-content/uploads/2022/09/Nemunas-2023-scaled.jpg
ORGANIZER;CN="Lietuvos sveikuoli%C5%B3 s%C4%85junga":MAILTO:simonas@sveikuoliai.lt
END:VEVENT
END:VCALENDAR