BEGIN:VCALENDAR
VERSION:2.0
PRODID:-//Sveikuoliai - ECPv6.13.0//NONSGML v1.0//EN
CALSCALE:GREGORIAN
METHOD:PUBLISH
X-ORIGINAL-URL:https://sveikuoliai.lt
X-WR-CALDESC:Sveikuoliai renginiai
REFRESH-INTERVAL;VALUE=DURATION:PT1H
X-Robots-Tag:noindex
X-PUBLISHED-TTL:PT1H
BEGIN:VTIMEZONE
TZID:Europe/Vilnius
BEGIN:DAYLIGHT
TZOFFSETFROM:+0200
TZOFFSETTO:+0300
TZNAME:EEST
DTSTART:20230326T010000
END:DAYLIGHT
BEGIN:STANDARD
TZOFFSETFROM:+0300
TZOFFSETTO:+0200
TZNAME:EET
DTSTART:20231029T010000
END:STANDARD
END:VTIMEZONE
BEGIN:VEVENT
DTSTART;TZID=Europe/Vilnius:20230731T150000
DTEND;TZID=Europe/Vilnius:20230806T120000
DTSTAMP:20260423T114733
CREATED:20220906T185343Z
LAST-MODIFIED:20230618T094919Z
UID:37736-1690815600-1691323200@sveikuoliai.lt
SUMMARY:SVEIKOS GYVENSENOS STOVYKLA "Į LAISVĘ!" - 2023
DESCRIPTION:Didžiausia vasaros\nSVEIKOS GYVENSENOS STOVYKLA “Į LAISVĘ!” – 2023 \nliepos 31 d. – rugpjūčio 6d.\, Daugai\, Alytaus raj. \n ŠIŲ METŲ STOVYKLA Į LAISVĘ YPATINGA JI SKIRTA TEMAI “LAIMĖS GALIMA IŠMOKTI” IR JOS MOKINSIMĖS KARTU SU TARPTAUTINIO LYGIO SANTYKIŲ SPECIALISTE  MARINA TARGAKOVA. \nTODĖL: Atsikratykite pervargimo\, įtampų\, depresijos\, pasenusių nuostatų ir stereotipų\, baimių\, ligų ir vaistų\, leiskite sau pailsėti nuo automobilių kamščių ir asfalto\, nuo triukšmo ir visko\, kas iki šiol gadino gyvenimą\, trukdė džiaugtis ir būti laimingiems. \nPadovanokite sau ar savo artimiesiems galimybę patirti\, kaip sveika gyvensena keičia gyvenimo kokybę!! \nTai septynių dienų stovykla\, skirta atgauti vidinę ramybę ir pasitikėjimą\, pailsėti ir pajusti tikrosios laisvės būti savimi skonį.  \nProgramoje: \nLaiko patikrintos holistinės sveikatos stiprinimo metodikos; \nVegetarinė mityba\, specialiai sukurta stovyklos dalyviams; \nPaskaitos\, seminarai ir diskusijos\, kurias veda žinomiausi Lietuvos sveikos gyvensenos puoselėtojai; \nJoga\, meditacijos\, kvėpavimo technikos\, mankštos\, grūdinimosi pamokos; \nSpeciali sveikos gyvensenos ugdymo programa vaikams;\n \nJuoko\, dailės terapijos\, savimasažo\, emocijų paleidimo technikos; \nŽoliavimas\, žygiai\, vaistinių augalų ir gamtos stichijų pažinimas; \nPirtis su profesionaliais pirtininkais*\, masažai*; \nSportiniai žaidimai ir varžybos \nPo stovyklos grįšite namo: \nįgiję praktinių sveikos gyvensenos ir sveikatos stiprinimo žinių; \natgavę VIDINĘ RAMYBĘ ir PASITIKĖJIMĄ; \nPAILSĖJĘ ir pajausite tikrosios LAISVĖS BŪTI SAVIMI skonį!!!; \natjaunėję ir sulieknėję 2-3 kg; \npasikrovę entuziazmo ir energijos; \natradę naujų bičiulių ir draugų visam gyvenimui:) \n \nAtsiliepimus apie stovyklą skaitykite mūsų puslapyje. \nVyks skirtingos ir bendros programos suaugusiems ir vaikams. \n   \nVaizdo įrašai iš stovyklos gyvenimo: \n\n\n\n\n\n\n\n\nStovykla vyks jaukioje ir modernioje\, 4 gandrų įvertinimą turinčioje Dvarčėnų dvaro sodyboje Alytaus rajone\, šalia Daugų miestelio.\nwww.dvarcenudvaras.lt  \nRegistracija į stovyklą  \nRegistruojantis į stovyklą iki 2022 m. spalio mėn. 10 d\, taikoma 20 proc. nuolaida nuo bendros sumos. Nuolaidos nesumuojamos. Nuolaida taikoma pervedant VISĄ SUMĄ. \nJei dėl rimtų/nenumatytų priežasčių atvykti į stovyklą negalėsite\, pinigai grąžinami. \nRegistracija vykdoma iki 2023 m. liepos 31 d. užpildžius dalyvio registracijos anketą ir pervedus visą arba avansinį dalyvio mokestį. \nDalyvio mokestis: \n\n\n\n\n\n\nSuaugusiems \nNariams\nNe nariams\n\n\n1.1. Gyvenimas 2 vietų kambaryje\, dalyvavimas programoje\, pilnas maitinimas (3 k./d.) \n476 EUR\n506 EUR\n\n\n1.2. Gyvenimas 3 ar 4 vietų kambaryje\, dalyvavimas programoje\, pilnas maitinimas (3 k./d.) \n453 EUR\n483 EUR\n\n\n1.3. Gyvenimas palapinėje\, dalyvavimas programoje\, pilnas maitinimas (3 k./d.)\n369 EUR\n399 EUR\n\n\nVaikams 5-13 m.\n\n\n1.1. Gyvenimas 2 vietų kambaryje\, dalyvavimas programoje\, pilnas maitinimas (3 k./d.) \n369 EUR\n399 EUR\n\n\n1.2. Gyvenimas 3 ar 4 vietų kambaryje\, dalyvavimas programoje\, pilnas maitinimas (3 k./d.) \n334 EUR\n364 EUR\n\n\n1.3. Gyvenimas palapinėje\, dalyvavimas programoje\, pilnas maitinimas (3 k./d.)\n289 EUR\n319 EUR\n\n\nVaikams iki 4 m. (imtinai) \n\n\n\nDalyvavimas programoje yra nemokamas\, gyvenimas nameliuose ir maitinimas\n265 EUR\n\n\n\n\nDėl nenumatytų priežasčių ar neatvykus į stovyklą 100 EUR iš registracijos mokesčio negrąžinami. \nYPATINGI PASIŪLYMAI \n\n2 asmenų šeimai – 5 % nuolaida nuo sumos;\n3 ir daugiau asmenų šeimoms – 6 % nuolaida nuo sumos.\n\nApgyvendinimas: kiekviename namelyje yra du kambariai: vienas – dvivietis (privatesnis)\, kitas – trijų-keturių vietų (pereinamas). Taip pat bendras dušas ir tualetas. \n  \n  \n  \n  \n  \n  \n  \n  \n  \nRegistruotis dabar\nDaugiau informacijos: \negle@\, tel: +37069955255
URL:https://sveikuoliai.lt/renginys/sveikos-gyvensenos-stovykla-i-laisve-2023/
ATTACH;FMTTYPE=image/jpeg:https://sveikuoliai.lt/wp-content/uploads/2022/08/220906LAISVE-FB-BANNER.jpg
END:VEVENT
END:VCALENDAR