BEGIN:VCALENDAR
VERSION:2.0
PRODID:-//Sveikuoliai - ECPv6.13.0//NONSGML v1.0//EN
CALSCALE:GREGORIAN
METHOD:PUBLISH
X-WR-CALNAME:Sveikuoliai
X-ORIGINAL-URL:https://sveikuoliai.lt
X-WR-CALDESC:Sveikuoliai renginiai
REFRESH-INTERVAL;VALUE=DURATION:PT1H
X-Robots-Tag:noindex
X-PUBLISHED-TTL:PT1H
BEGIN:VTIMEZONE
TZID:Europe/Vilnius
BEGIN:DAYLIGHT
TZOFFSETFROM:+0200
TZOFFSETTO:+0300
TZNAME:EEST
DTSTART:20230326T010000
END:DAYLIGHT
BEGIN:STANDARD
TZOFFSETFROM:+0300
TZOFFSETTO:+0200
TZNAME:EET
DTSTART:20231029T010000
END:STANDARD
END:VTIMEZONE
BEGIN:VEVENT
DTSTART;TZID=Europe/Vilnius:20230904T080000
DTEND;TZID=Europe/Vilnius:20230908T170000
DTSTAMP:20260422T131614
CREATED:20230414T064245Z
LAST-MODIFIED:20250124T195522Z
UID:43034-1693814400-1694192400@sveikuoliai.lt
SUMMARY:Senjorų stovykla "Mes galim!"
DESCRIPTION:Vienintelė sveikatingumo ugdymo stovykla senjorams Lietuvoje\, kurioje nebus kada galvoti kur ir ką skauda\, kur įkvėpsime jaunystės eliksyro\, tapsime žvalūs\, žaismingi\, sveiki ir laimingi su savo sidabrine gija galvose. \nStovykla skirta atgauti vidinę ramybę ir pasitikėjimą\, atjaunėti\, sustiprėti\, patirti teigiamų emocijų savo bendraminčių būryje\, pasidalinti savo patirtimi\, atsikratyti kūniškų ir dvasinių sopulių. \nPadovanokite sau ar savo artimiesiems galimybę atgauti GERĄ SAVIJAUTĄ\, sustabdyti senėjimo procesą bei pajusti tikrą GYVENIMO DŽIAUGSMĄ!!! Stovykla tinka VISIEMS senjorams\, nepriklausomai nuo jūsų sveikatos būklės ar fizinių pajėgumų. \nPROGRAMOJE: \n\nRytmetinė mankšta ir maudynės bet kokiu oru\nSveikatinanti mityba\, specialiai sukurta stovyklos dalyviams\nPaskaitos\, seminarai ir diskusijos\, kurias veda Lietuvos sveikuolių sąjungos lektoriai\nSavimasažo pamokos\nMasažai (papildomai)\nKvėpavimo pratimai\, meditacijos\nSenovės baltų ritualai su ugnimi ir nuodėguliu\, atstatantys fizinę ir psichinę pusiausvyrą\nLinijiniai šokiai\nVakaronės\nMeno terapijos\nSveiko maisto dirbtuvės\nPažintiniai žygiai po apylinkes\n\nPo stovyklos grįšite namo: \n\nĮgiję praktinių sveikos gyvensenos ir sveikatos stiprinimo žinių\nPAILSĖJĘ ir atgavę VIDINĘ RAMYBĘ bei PASITIKĖJIMĄ\nAtjaunėję ir pailsėję\nSužinoję kaip atsikratyti vaistų nuo daugelio negalavimų\, įgiję sveikesnį požiūrį į gyvenimą\nPasikrovę entuziazmo ir energijos\nAtradę naujų bičiulių ir draugų\n\nMaitinimas: \n\n\n\n\n\n\nSpecialiai stovyklos dalyviams bus ruošiamas sveikas\, subalansuotas vegetarinis maistas 3 kartus dienoje (pusryčiai\, pietūs ir vakarienė). \nAtsiliepimai: \nAtsiliepimus iš stovyklų rasite šiame puslapyje. \n\n\n\n\n\n\n\n\n\n\n\n\nRegistracija į stovyklą \n\n\n\n\n\n\n\n\n\n\n\n\nRegistracija vykdoma iki 2023 m. rugsėjo 4 d. užpildžius dalyvio registracijos anketą ir pervedus 100 Eur avanso mokestį arba visą sumą. \n\n\n\nApgyvendinimas: \nStovyklos dalyviai apgyvendinami moderniame dvare prie Vilniaus “Provansalis”.\nSkoningai įrengtuose kambariuose dalyvės apgyvendinamos po 2. Kambariuose 2 viengulės lovos arba 1 viengulė ir 1 dvigulė.\nTrims kambariams yra vienas vonios kambarys.\nGrindinis šildymas (esant poreikiui).\nPatogus privažiavimas asfaltuotu keliu\, stovėjimo aikštelė.\nTvenkinys\, moderni pirtis\, 10 hektarų privati valda\, miškas.\nDvaras įsikūręs šalia Vilniaus.\nTai – puiki vieta naudingai praleisti laiką natūralios gamtos prieglobstyje.\n\nDaugiau: www.provansalis.lt\nADRESAS: Babriškių k. 7\, Paberžės sen.\, Vilniaus raj. sav.\n\n\n\n\n\n\n\n\n\nStovykla vyks susirinkus būtinam dalyvių skaičiui\, priešingu atveju – pilna sumokėta suma (ar avansas) bus pilnai grąžinami.\n\n  \nVIETŲ NEBĖRA. BET JŲ KARTAIS ATSIRANDA 🙂 TEIRAUTIS 864800948 (KRISTINA) \n\n\n\n \n\nDaugiau informacijos:\ninfo@\, tel: +370 648 00948 (Kristina) \nSVARBU: registracija įsigalioja atlikus išankstinį mokėjimą už stovyklą ne vėliau kaip per 3 dienas nuo registracijos. \nSąskaitos rekvizitai tiesioginiam pavedimui\, jei neapmokėjote iškart\, registracijos metu:\nLietuvos sveikuolių sąjunga\, įmonės kodas: 191616227\nBanko sąskaitos Nr.: LT267300010151973368 \nPaskirtis: Senjorų stovykla “Mes galim!” 2023
URL:https://sveikuoliai.lt/renginys/senjoru-stovykla-mes-galim-2023/
ATTACH;FMTTYPE=image/jpeg:https://sveikuoliai.lt/wp-content/uploads/2023/04/Vasara-3.jpg
END:VEVENT
END:VCALENDAR