BEGIN:VCALENDAR
VERSION:2.0
PRODID:-//Sveikuoliai - ECPv6.13.0//NONSGML v1.0//EN
CALSCALE:GREGORIAN
METHOD:PUBLISH
X-WR-CALNAME:Sveikuoliai
X-ORIGINAL-URL:https://sveikuoliai.lt
X-WR-CALDESC:Sveikuoliai renginiai
REFRESH-INTERVAL;VALUE=DURATION:PT1H
X-Robots-Tag:noindex
X-PUBLISHED-TTL:PT1H
BEGIN:VTIMEZONE
TZID:Europe/Vilnius
BEGIN:DAYLIGHT
TZOFFSETFROM:+0200
TZOFFSETTO:+0300
TZNAME:EEST
DTSTART:20260329T010000
END:DAYLIGHT
BEGIN:STANDARD
TZOFFSETFROM:+0300
TZOFFSETTO:+0200
TZNAME:EET
DTSTART:20261025T010000
END:STANDARD
END:VTIMEZONE
BEGIN:VEVENT
DTSTART;TZID=Europe/Vilnius:20260420T180000
DTEND;TZID=Europe/Vilnius:20260420T200000
DTSTAMP:20260420T020630
CREATED:20240408T070057Z
LAST-MODIFIED:20260416T092649Z
UID:36702-1776708000-1776715200@sveikuoliai.lt
SUMMARY:Specialus webinaras grikių iššūkio dalyviams: klausimai ir sprendimai
DESCRIPTION:Vykstantis grikių iššūkis su visais savo išbandymais ir pasiekimais kai kuriems dalyviams iškelia asmeniškus klausimus dėl savo negalavimų\, klausimus\, ką dar papildomai galima padaryti\, kad liga atsitrauktų greičiau\, kaip reikės gyventi po grikių iššūkio\, kad: \n\nnegrįžtų nukritęs svoris;\npavyktų ilgiau laikytis palankios sveikatai mitybos;\nišlaikyti tinkamą režimą\, kai intensyviai dirbi;\nneprarasti entuziazmo keisti savo įpročius\, kai aplink nėra bendraminčių;\npasiektų norimų rezultatų įveikiant lėtines\, medicinai neįveikiamas ligas ir t.t.\n\nSusitikimas skirtas tiems\, kas laikėsi grikių iššūkio taisyklių ar įpusėjo jo laikytis\, kas turi įvairiausių lėtinių negalavimų ir ryžtingai nori jų atsikratyti. Susitikimo metu atsakysime į visus rūpimus klausimus\, susijusius su palankia sveikatai gyvensena\, mityba\, kurios reiktų laikytis po grikių iššūkio\, papildomom natūraliom priemonėms ir metodais\, kurie efektyviai padės susigrąžinti gerą savijautą ir sveikatą. \nTrukmė – 1-2 val. \nVieta: Zoom platforma. Užsiregistravusieji gaus laiškus su prisijungimu likus 30 min iki susitikimo pradžios \n Susitikimą veda:  \n \n Sigita Labutienė\, Lietuvos sveikuolių sąjungos valdybos narė\, sveikatingumo stovyklų organizatorė\, lektorė. \n  \n  \n  \n  \n \nKristina Ragauskaitė\, Lietuvos sveikuolių sąjungos viceprezidentė\, knygos “Cukraus detoksas” autorė\, Cukraus detokso stovyklų organizatorė\, lektorė. \n  \n  \n  \nPaskaitos įrašas BUS \nKaina – 10 EUR \nREGISTRACIJA\n\nDaugiau informacijos: \nsigita@sveikuoliai.lt\,  \ntel: +37065631211
URL:https://sveikuoliai.lt/renginys/specialus-webinaras-grikiu-issukio-dalyviams-klausimai-ir-sprendimai/
CATEGORIES:Sveikuolių sąjungos renginiai
ATTACH;FMTTYPE=image/jpeg:https://sveikuoliai.lt/wp-content/uploads/2022/02/grikiai-scaled.jpg
END:VEVENT
END:VCALENDAR