BEGIN:VCALENDAR
VERSION:2.0
PRODID:-//Sveikuoliai - ECPv6.13.0//NONSGML v1.0//EN
CALSCALE:GREGORIAN
METHOD:PUBLISH
X-ORIGINAL-URL:https://sveikuoliai.lt
X-WR-CALDESC:Sveikuoliai renginiai
REFRESH-INTERVAL;VALUE=DURATION:PT1H
X-Robots-Tag:noindex
X-PUBLISHED-TTL:PT1H
BEGIN:VTIMEZONE
TZID:Europe/Vilnius
BEGIN:DAYLIGHT
TZOFFSETFROM:+0200
TZOFFSETTO:+0300
TZNAME:EEST
DTSTART:20150329T010000
END:DAYLIGHT
BEGIN:STANDARD
TZOFFSETFROM:+0300
TZOFFSETTO:+0200
TZNAME:EET
DTSTART:20151025T010000
END:STANDARD
END:VTIMEZONE
BEGIN:VEVENT
DTSTART;VALUE=DATE:20150814
DTEND;VALUE=DATE:20150817
DTSTAMP:20260420T195749
CREATED:20150707T134043Z
LAST-MODIFIED:20150727T062501Z
UID:7373-1439510400-1439769599@sveikuoliai.lt
SUMMARY:Tylos stovykla | Anykščiai
DESCRIPTION:  \nKVIEČIAME Į VIDINIŲ ATRADIMŲ KELIONĘ TYLOJE –\nRUGPJŪČIO 14-16 D. RAMAŠKONYSE \n  \nTYLOS STOVYKLA – tai autorinė\, jau daugiau nei 10 metų\, bioenergetikės Svetlanos Smertjevos rengiama stovykla.\nŠios stovyklos idėja Svetlanai atėjo kaip aiškiažinystė\, vidinis pajutimas. \nStovyklos laikas – rugpjūčio vidurys pasirinktas neatsitiktinai\, nes Žolinė – vasaros žalumos\, derliaus brandos apogėjus. Šis laikas suteikia galimybę ir žmogui\, kiekvienam iš mūsų\, susitikti su savo vidiniu pasauliu\, pažadinti ten glūdinčią brandą. \nTYLA\, PASNINKAS\, ĮVAIRIOS MEDITACIJOS BEI PRAKTIKOS (akla meditacija\, garsų maudynės\, konsteliacijos\, ugnies meditacija) sustiprins gamtos laiko skleidžiamą energiją\, leis prisipildyti jėgos bei pajausti save ir kitus. Nes per TYLĄ kalba vidus\, išgirstamas vidinis balsas\, atsiveria sielos\, širdies erdvė ir visa tai vyksta labai saugiai ir subtiliai kiekvieno ritmu.\nStovyklos vedantysis padeda susitikti su savimi\, subalansuoti vidinius poliariškumus\, transformuoti iškylančius išgyvenimus\, tai kas kelia nerimą\, diskonfortą\, skausmą. \nSTOVYKLA – GALIMYBĖ BŪTI GRUPĖJE IR KARTU PASINERTI Į SAVE\, susitinkant su savimi ir kartu jaučiant kitą žmogų iš savo pasaulio. Ieškančių\, norinčių iš tikrųjų pažinti save\, žmonių bendrystė suteiks pasitikėjimo pasauliu ir aplinka.\nStovyklos praktikos padės sustiprinti įžvalgą\, intuiciją\, pagerinti santykius su artimaisiais\, draugais\, kolegomis\, suteiks ramybės ir jėgos gyventi kasdieninį gyvenimą. \nPenktadienio vakarą meditacija įeisime į TYLĄ ir ankstų sekamdienio rytą su dėkingumu atsisveikinsime su šia TYLOS erdve. Tylą lydės pasninkas\, kurio metu gersime vandenį ir valgysime arbūzus.\nSTOVYKLA VYKS NUOSTABIAME GAMTOS PRIEGLOBSTYJE\, miško glūdumoje\, kur jungiasi ir veikia visos stichijos: grynas oras\, švari žemė\, gaivūs vandens telkiniai: upelis bei prūdas\, laužo ugnis. \n  \n \nPradžia: penktadienį iki 18 val. suvažiavimas į stovyklą.\nPabaiga: sekmadienį apie 18 val.\nMaistas: penktadienio vakarą ir sekmadienį ant laužo gamintas vegetariškas maistas\, per pasninką – arbūzai\, nuolatos – miško šulinio vanduo.\nKaina: 80 Eur gyvenant namelyje\, 70 Eur – palapinėje.\nRegistracija: iki rugpjūčio 5 d. tel. 8 613 12 282 (Kristina) arba el. p. oaze.svetana@gmail.com\, registracija patvirtinama sumokėjus avansą – 40 Eur.
URL:https://sveikuoliai.lt/renginys/tylos-stovykla-anyksciai/
LOCATION:Ramybės oazė “SVETANA”\, Ramaškonių k.\,\, Anykščiai\, Lietuva
ORGANIZER;CN="Kristina":MAILTO: oaze.svetana@gmail.com
END:VEVENT
BEGIN:VEVENT
DTSTART;VALUE=DATE:20150817
DTEND;VALUE=DATE:20150824
DTSTAMP:20260420T195749
CREATED:20150707T135505Z
LAST-MODIFIED:20150814T112651Z
UID:7382-1439769600-1440374399@sveikuoliai.lt
SUMMARY:Jaunimo išlikimo stovykla „Laukinis jaunimas“
DESCRIPTION:Tai septynių dienų stovykla be interneto ir telefonų smagiam ir kūrybingam laiko leidimui\, mokytis gyventi su gamta\, būryje žmonių\, kur visi vieni už kitus atsakingi. Tai išgyvenimo gamtoje žinių patikrinimas\, gerinimas ir jų pritaikymas praktiškai. Dažnam jaunuoliui tokia stovykla tampa nauju entuziazmu\, nauja pradžia\, nauju startu gyvenime.  Retas šių laikų jaunuolis tiek dienų yra buvęs gryname ore. Čia jis ne tik kvėpuos grynu oru\, bet ir sveikai maitinsis bei miegos tyrame ore. O ką jau bekalbėti apie naujus draugus… \nStovykloje jūsų laukia:  \n\nnaktiniai žygiai;\ndieniniai žygiai;\nkomandą formuojantys žaidimai;\nišgyvenimo gamtoje pamokos;\nmaudynės ežeruose\, upėse;\nant laužo gamintas sveikas ir skanus maistas;\njauni ir išmintingi vadovai;\nsavęs ir savo galimybių pažinimas.\n\n  \nStovyklos metu išmoksite: \n\nišgyventi gamtoje;\npasitikėjimo savimi ir draugais;\npasigaminti plaustą\,\npasistatyti pastogę\,\nsusirasti\, pasigaminti maisto\,\nįžiebti ugnį\,\nišgirsti tylą\,\nprisiimti atsakomybę už draugus.\n\nFormuojama viena amžius grupė: 13 iki 18 metų jaunimas. \n \nPASKUBĖKITE REGISTRUOTIS! \nLIKO VOS KELIOS VIETOS \nREGISTRUOTIS!\n\nRegistracija į stovyklą vykdoma iki 2015 m. rugpjūčio 01 d.. Dalyvių skaičius ribotas!\n \nNuolaidos taikomos vykstant dviems ir daugiau asmenų iš vienos šeimos bei socialiai remtiniems dalyviams. Dėl nuolaidų teiraukitės  el. paštu simonas@\, tel: 864839931\,  Simonas Dailidė.
URL:https://sveikuoliai.lt/renginys/jaunimo-islikimo-stovykla-laukinis-jaunimas/
LOCATION:Dzūkijos miškai
ATTACH;FMTTYPE=image/png:https://sveikuoliai.lt/wp-content/uploads/2015/05/LAUKINIS-JAUNIMAS.png
ORGANIZER;CN="Simonas Dailid%C4%97":MAILTO:simonas@
END:VEVENT
BEGIN:VEVENT
DTSTART;TZID=Europe/Vilnius:20150819T100000
DTEND;TZID=Europe/Vilnius:20150819T150000
DTSTAMP:20260420T195749
CREATED:20150814T084432Z
LAST-MODIFIED:20150814T084658Z
UID:7530-1439978400-1439996400@sveikuoliai.lt
SUMMARY:Mokymai: Inovaciniai sveikatinimo metodai jaunimo ugdymui
DESCRIPTION:Maloniai kviečiame visuomenės sveikatos biurų specialistus dalyvauti mokymuose „Inovaciniai sveikatinimo metodai jaunimo ugdymui“. \nPirmojo susitikimo metu mes kartu ieškosime šiuolaikiškų\, novatoriškų metodų\, padedančių kurti aplinką\, kurioje jaunuoliai galėtų jaustis pasitikinčiai įvairiose situacijose\, kaip optimaliai išnaudoti turimą sveikatos potencialą. \nSusitikimo metu pristatysime tarptautinį projektą\, finansuojamą Šiaurės ministrų tarybos. \nSeminaras vyks š.m. rugpjūčio 19 d. Birštone\, pradžia -10 val.\, vieta bus patikslinta užsiregistravus. \nDaugiau informacijos >> \n \nRegistracija ir informacija tel. Nr. (8-682) 42579 arba el. paštu info@lpsa.lt
URL:https://sveikuoliai.lt/renginys/mokymai-inovaciniai-sveikatinimo-metodai-jaunimo-ugdymui/
LOCATION:Vieta be pavadinimo\, Birštonas
ORGANIZER;CN="Eligijus Valskis":MAILTO:info@lpsa.lt
END:VEVENT
BEGIN:VEVENT
DTSTART;TZID=Europe/Vilnius:20150820T180000
DTEND;TZID=Europe/Vilnius:20150820T200000
DTSTAMP:20260420T195749
CREATED:20150814T092348Z
LAST-MODIFIED:20150814T092726Z
UID:7534-1440093600-1440100800@sveikuoliai.lt
SUMMARY:Paskaita „Žmogaus sielos jėga XXI amžiuje“
DESCRIPTION:Pasaulinis Dvasinis Universitetas Brahma Kumaris nuoširdžiai kviečia visus norinčius į programą „Žmogaus sielos jėga XXI amžiuje“ 2015 m. rugpjūčio 20 d.\, ketvirtadienį\, 18 val. \nSavo dvasine patirtimi pasidalins daktaras Vidžai Kumar Uttanur (Indija). \nOkeanologijos daktaras Vidžai Kumar Uttanur baigė Delio universitetą\, daugiau negu 30 metų praktikuoja Radža jogą\, yra Brahma Kumaris Pasaulinio Dvasinio \nUniversiteto mokslinės grupės narys\, daugelio seminarų\, konferencijų\, retritų koordinatorius. \nVisi svajoja apie ateitį. Kai jums buvo\, pavyzdžiui\, 17–20 metų\, juk galvojote apie savo ateitį? O dabar? Daug kas priklauso nuo mūsų amžiaus\, bet toli gražu ne tik nuo jo. Argi Jūs nenorite\, kad rytoj pasidarytų lengviau gyventi\, kad Jus galų gale suprastų viršininkas arba kaimynas\, o gal vyras arba žmona\, su kuria gyvenate jau daug metų? Vis tik ką reikia padaryti patiems\, kad dingtų problemos\, kad XXI-ame amžiuje pasiteisintų mūsų lūkesčiai ir viltys: tapti sveikiems ir laimingiems? Kaip pakeisti savo gyvenimą į gera – apie konkrečius ir paprastus metodus ir bus kalbama programoje. \nAdresas: Lietuvos kultūros tyrimų institutas\, Saltoniškių g. 58\, Vilnius \nĮėjimas laisvas. \nTel.: 272 26 54\, 8641 54714\nwww.bkwsu.org\, www.brahmakumaris.ru\nvilnius@lt.brahmakumaris.org
URL:https://sveikuoliai.lt/renginys/paskaita-zmogaus-sielos-jega-xxi-amziuje/
LOCATION:Lietuvos kultūros tyrimų institutas\,  Saltoniškių g. 58\, Vilnius\, Lietuva
ORGANIZER;CN="Pasaulinis Dvasinis Universitetas Brahma Kumaris":MAILTO:vilnius@lt.brahmakumaris.org
END:VEVENT
BEGIN:VEVENT
DTSTART;TZID=Europe/Vilnius:20150825T180000
DTEND;TZID=Europe/Vilnius:20150825T200000
DTSTAMP:20260420T195749
CREATED:20150818T120326Z
LAST-MODIFIED:20251201T175759Z
UID:7553-1440525600-1440532800@sveikuoliai.lt
SUMMARY:SVEIKATOS SUSIGRĄŽINIMO KURSAI PANEVĖŽYJE
DESCRIPTION:Kelias į sveikatą – tai kelias i savęs pažinimą! \nKą daryti\, jei tradiciniai gydymo metodai nepadeda\, sveikata prastėja\, o  gydantys daktarai sprendžia tik ligos pasekmes\, bet ne tikrąsias ligos priežastis? Kaip surasti tinkamiausią atsakymą ir nepasiklysti tarp gausybės prieinamos informacijos ir savigydos sistemų? \nTai patikrintas ir  patvirtintas  efektyvių  pratimų  ir meditacijų  kompleksas\, sukurtas remiantis  senovės Rytų  išmintimi  ir  Vakarų šiuolaikiniais mokslo atradimais\,  padėjęs susigrąžinti sveikatą\, net   keliems   milijonams  žmonių visame pasaulyje. \n  \nKodėl verta eiti į mokymus? \nM.Norbekovo metodika – tai patikrintas ir patvirtintas efektyvių pratimų kompleksas\, sukurtas remiantis Rytų išmintimi ir naujausiais Vakarų mokslo atradimais\, padėjęs susigrąžinti sveikatą daugiau nei aštuoniems milijonams žmonių visame pasaulyje. \nUnikali M.Norbekovo metodika nesiūlo jokių vaistų ar gydomųjų priemonių\, ji tenurodo galimybę\, kuria dera pasinaudoti žmogui\, norinčiam įveikti įkyrų negalavimą. Metodika pagrįsta įgimtu kiekvieno mūsų gebėjimu valdyti savo kūną ir aktyvuoti vidinius organizmo rezervus. \nKoks pagrindinis mokymų tikslas ? \nAtrasti pasikartojančių ligų ir nesėkmių priežastis ir jas pašalinti. Atkurti gerą savijautą ir gyvenimo džiaugsmą. Atrasti fizinę ir dvasinę pusiausvyrą. \nKokiems žmonėms tinka ši metodika? \nMetodika prieinama įvairaus amžiaus žmonėms. Išmoksite praktikų\, skirtų atkurti fizinio kūno sveikatą: \n* susigrąžinsite regėjimą\, klausą\, uoslę\,\n* atstatysite stuburą\,\n* atstatysite sąnarius\,\n* atstatysite širdies kraujagyslių sistemos darbą\,\n* atstatysite endokrinines sistemos darbą\n* atstatysite inkstų ir kepenų darbą\,\n* suaktyvinsite medžiagų apykaita\,\n* sustiprinsite imunitetą\, \nSusigrąžinsite emocine pusiausvyrą ir gyvenimo džiaugsmą! \n* išbandysite praktikas\, padedančias atsikratyti stresų\, depresijos\, nerimo\, nemigos ir tt;\n* atrasite praeityje patirtų emocinių traumų priežastis ir jas pašalinsite\,\n* analizuodami savo charakterio savybes atrasite\, kurie bruožai trukdo\, o kurie padeda jums gyventi sveikai ir sėkmingai. \nKur ir kada vyks mokymai? \nADRESAS : Savanorių g .12. III aukštas.\nKURSŲ PRADŽIA : Rugpjūčio 25 d. 18 val.\nKURSŲ TRUKMĖ : 8 dienos po 4 val\nPIRMOS DIENOS KAINA : 10 eur.\nVISA MOKYMŲ KAINA: 140 eur. \nTAIKOMOS NUOLAIDOS. \nMOKYMUS VEDA: Arūnas Maliauskas \nKursų dalyvių atsiliepimai \n \nBŪTINA IŠANKSTINĖ REGISTRACIJA! \nDAUGIAU INFO IR REGISTRACIJA. \nTelefonu 8 655 42188
URL:https://sveikuoliai.lt/renginys/sveikatos-susigrazinimo-kursai-panevezyje/
LOCATION:Savanorių g .12\, Panevėžys\, Savanorių g .12.\, Panevėžys\, Lietuva
ATTACH;FMTTYPE=image/jpeg:https://sveikuoliai.lt/wp-content/uploads/2025/03/senjoru-stovykla1.jpg
END:VEVENT
BEGIN:VEVENT
DTSTART;TZID=Europe/Vilnius:20150830T100000
DTEND;TZID=Europe/Vilnius:20150830T180000
DTSTAMP:20260420T195749
CREATED:20150826T092158Z
LAST-MODIFIED:20150826T092158Z
UID:7643-1440928800-1440957600@sveikuoliai.lt
SUMMARY:INIPI pirties ceremonija | Anykščiai
DESCRIPTION:Inipi – autentiška šiaurės Amerikos indėnų pirtis\, kurią indėnai naudoja jau tūkstančius metų\, tai – tikras kūno ir dvasios apsivalymas\, gilus susitikimas su savimi. Po pirties jausitės išsivalę\, atsipalaidavę\, turėsite daugiau jėgos gyventi. \nPirtį ves bioenergetikė SVETLANA SMERTJEVA.
URL:https://sveikuoliai.lt/renginys/inipi-pirties-ceremonija-anyksciai/
LOCATION:Ramybės oazė “SVETANA”\, Ramaškonių k.\,\, Anykščiai\, Lietuva
ATTACH;FMTTYPE=image/jpeg:https://sveikuoliai.lt/wp-content/uploads/2015/07/INIPI-palapine.jpg
ORGANIZER;CN="Kristina Kiau%C5%A1ait%C4%97":MAILTO:oaze.svetana@gmail.com
END:VEVENT
END:VCALENDAR