BEGIN:VCALENDAR
VERSION:2.0
PRODID:-//Sveikuoliai - ECPv6.13.0//NONSGML v1.0//EN
CALSCALE:GREGORIAN
METHOD:PUBLISH
X-ORIGINAL-URL:https://sveikuoliai.lt
X-WR-CALDESC:Sveikuoliai renginiai
REFRESH-INTERVAL;VALUE=DURATION:PT1H
X-Robots-Tag:noindex
X-PUBLISHED-TTL:PT1H
BEGIN:VTIMEZONE
TZID:Europe/Riga
BEGIN:DAYLIGHT
TZOFFSETFROM:+0200
TZOFFSETTO:+0300
TZNAME:EEST
DTSTART:20190331T010000
END:DAYLIGHT
BEGIN:STANDARD
TZOFFSETFROM:+0300
TZOFFSETTO:+0200
TZNAME:EET
DTSTART:20191027T010000
END:STANDARD
END:VTIMEZONE
BEGIN:VEVENT
DTSTART;TZID=Europe/Riga:20191213T173000
DTEND;TZID=Europe/Riga:20191215T140000
DTSTAMP:20260419T214814
CREATED:20190709T063050Z
LAST-MODIFIED:20191111T090816Z
UID:20291-1576258200-1576418400@sveikuoliai.lt
SUMMARY:Regėjimo gerinimo savaitgalis | Panevėžys
DESCRIPTION:[vc_row css=”.vc_custom_1459841172843{padding-top: 30px !important;padding-bottom: 30px !important;background-color: #ffffff !important;}”][vc_column width=”1/6″][vc_column_text][/vc_column_text][/vc_column][vc_column width=”2/3″ css=”.vc_custom_1475483555239{padding-top: 20px !important;}”][vc_column_text]\nREGĖJIMO GERINIMO PRATYBOS  \nGruodžio 13-15 d. (Pušyno g. 19A)  \n[/vc_column_text][/vc_column][vc_column width=”1/6″][/vc_column][/vc_row][vc_row css=”.vc_custom_1459841172843{padding-top: 30px !important;padding-bottom: 30px !important;background-color: #ffffff !important;}”][vc_column][vc_column_text]\n[/vc_column_text][/vc_column][/vc_row][vc_row css=”.vc_custom_1459841172843{padding-top: 30px !important;padding-bottom: 30px !important;background-color: #ffffff !important;}”][vc_column width=”1/6″][/vc_column][vc_column width=”2/3″][vc_column_text]\nAr norėtum vėl matyti pasaulį ryškiai ir visiškai atsisakyti akinių be didelių pastangų ir operacijų? \n[/vc_column_text][/vc_column][vc_column width=”1/6″][/vc_column][/vc_row][vc_row css=”.vc_custom_1459841172843{padding-top: 30px !important;padding-bottom: 30px !important;background-color: #ffffff !important;}”][vc_column width=”1/6″][/vc_column][vc_column width=”2/3″][vc_column_text]\nTai gali padaryti jau dabar. \n[/vc_column_text][/vc_column][vc_column width=”1/6″][/vc_column][/vc_row][vc_row css=”.vc_custom_1459841172843{padding-top: 30px !important;padding-bottom: 30px !important;background-color: #ffffff !important;}”][vc_column width=”1/6″][/vc_column][vc_column width=”2/3″][vc_column_text] \nTu daug valandų praleidi prie kompiuterio? Dažnai pervargsti ar patiri stresą darbe\, mokykloje ar namuose? Nenuostabu\, kad tavo akys nebemato\, kaip anksčiau. Jos tiesiog “atsisako” matyti\, kas tau nėra malonu. \nPratybose sužinosite: \nGruodžio 13 d. 18:00-20:00 val. Įvadinė paskaita “Kaip vėl gerai matyti be akinių?” S. Kriaučiūnienė\n\n\n\nakies veikimo principai ir pagrindinės regėjimo blogėjimo priežastys;\nkaip išsaugoti gerą regėjimą ilgą laiką dirbant su kompiuteriu?\npaprasti praktiniai metodai\, leidžiantys atstatyti ir stiprinti regėjimą;\nKodėl akių mankšta ir pratimai neduoda ilgalaikio rezultato?\nPraktiniai užsiėmimai\, klausimai-atsakymai.\n\n\n\n[/vc_column_text][vc_column_text]\nGruodžio 14 d. 9:00-16:00 val. Judėjimas\, centralizavimas\, savimasažas S. Kriaučiūnienė\n\n9:00-12:00 – “Judėjimas”\, teorija ir praktika.\nKiek svarbus yra judėjimas\, koks jo ryšys su geru regėjimu bei atsipalaidavimu. Geram regėjimui būtini visi judėjimo tipai:\n– fizinio akių ir viso kūno judėjimas;\n– regimo vaizdo judėjimas\n– dėmesio judėjimas.\n\n12:00-13:00 – pietų pertrauka\n13:00-16:00 – atsipalaidavimo technikos\, centralizavimo\, savimasažo pratybos\nDetaliau susipažinsite su akies struktūra ir suprasite\, kodėl akis vienu metu mato tik vieną sritį ryškiausiai. Kas yra spoksojimas (dėmesio išskaidymas) ir kodėl jis yra pagrindinė regėjimo sutrikimo priežastis. Kaip taisyklingai žiūrėti į daiktus ir vaizdus\, kad akys išliktų atsipalaidavusios\, o regėjimas geras? Kaip pagerinti kraujotaką akių srityje?\n\n\n[/vc_column_text][vc_column_text]\nGruodžio 15 d. 10:00-14:00 val. Regėjimo gerinimo pratybos\nM. Mitkevičius\n\n10:00-13:00 – darbas iš arti. Kaip susigrąžinti ir išlaikyti gerą regėjimą:\n\n\n\ndirbant prie kompiuterio;\nskaitant;\nnaudojantis išmaniuoju telefonu ar planšete;\nilgai dirbant bet kokį artimą darbą.\n\n13:00-14:00 – spalvų medžioklė\, klausimai atsakymai \n\n\nPo pratybų išmoksite įtraukti gero regėjimo principus ir praktikas į savo kasdienybę\, neskirdami tam papildomo laiko. \n\nPaskaitose praktiškai patirsite naudą iš šių pratybų ir geriau matyti imsite iš karto!!! \n[/vc_column_text][/vc_column][vc_column width=”1/6″][/vc_column][/vc_row][vc_row css=”.vc_custom_1459840639371{background-color: #ffffff !important;}”][vc_column][vc_column_text]\nŠtai ką šias efektyvias praktikas išbandę žmonės kalba apie jas: \n[/vc_column_text][vc_row_inner][vc_column_inner width=”1/2″][vc_video link=”https://www.youtube.com/watch?v=Uv6YP-AbA6Q”][/vc_column_inner][vc_column_inner width=”1/2″][vc_video link=”https://www.youtube.com/watch?v=A5bMOWjFAA0″][/vc_column_inner][/vc_row_inner][vc_row_inner][vc_column_inner width=”1/2″][vc_video link=”https://www.youtube.com/watch?v=XolPQ6H3G7g”][/vc_column_inner][vc_column_inner width=”1/2″][vc_video link=”https://www.youtube.com/watch?v=31xMzwNl27s”][/vc_column_inner][/vc_row_inner][/vc_column][/vc_row][vc_row css=”.vc_custom_1497971474117{padding-top: 60px !important;padding-bottom: 60px !important;background-color: #ffffff !important;}”][vc_column][vc_column_text css=”.vc_custom_1512658706557{background-color: #ffffff !important;}”]Pratybas veda: \nSigita Kriaučiūnienė\, Lietuvos sveikuolių sąjungos viceprezidentė\, regėjimo atstatymo stovyklų Lietuvoje pradininkė\, sertifikuota V. H. Beitso metodo mokytoja\, asociacijos Bates Method International narė. Prieš septynis metus atsisakiusi akinių\, sustiprinusi savo regėjimą\, Sigita šiuo metu dalinasi patirtimi ir visame pasaulyje žinomo oftalmologo paliktomis žiniomis\, leidžiančiomis sustiprinti ar net \n  \n \nMindaugas Mitkevičius\, Lietuvos sveikuolių sąjungos lektorius-praktikas\, prieš daugiau nei du metus atsisakęs akinių ir sustiprinęs savo regėjimą. Mindaugas\, padėjęs pagerinti regėjimą šimtams žmonių\, pasidalins\, kaip pratimų\, atsipalaidavimo ir vizualizacijos pagalba galima sustiprinti savo akis ir visiškai atsikratyti akinių… \n  \n  \nDaugiau informacijos: 8-656-31211 \nPratybų kaina nuo:\n119 Eur \nREGISTRACIJA \n\nSVARBU: registracija įsigalioja atlikus išankstinį mokėjimą už paskaitą\, ne vėliau kaip per 24 val. nuo registracijos. \nSąskaitos rekvizitai:\nLietuvos sveikuolių sąjunga\, įmonės kodas: 191616227\nBanko sąskaitos Nr.: LT267300010151973368[/vc_column_text][/vc_column][/vc_row]
URL:https://sveikuoliai.lt/renginys/regejimo-gerinimo-savaitgalis-panevezys/
CATEGORIES:Sveikatos biurų renginiai
END:VEVENT
BEGIN:VEVENT
DTSTART;TZID=Europe/Riga:20191215T110000
DTEND;TZID=Europe/Riga:20191215T153000
DTSTAMP:20260419T214814
CREATED:20191009T171100Z
LAST-MODIFIED:20191115T144304Z
UID:21519-1576407600-1576423800@sveikuoliai.lt
SUMMARY:Kalėdinės sveiko maisto dirbtuvės
DESCRIPTION:[vc_row][vc_column][vc_column_text]Kviečiame smagiai\, skaniai ir prasmingai praleisti laiką Kalėdinėse Cukraus detokso dirbtuvėse.\nČia jūs sužinosite\, kaip lengvai ir skaniai pasigaminti Kalėdinių patiekalų\, kurie patiks visai šeimai sveikiau\, sužinosite tam tikrų produktų poveikį sveikatai ir savijautai\, bet ypatybes\, sužinosite\, kaip nešvaistyti pinigų beprasmėms dovanėlės\, vietoje jų dovanojant gardžius ir sveikus rankų darbo kepinius. Cukraus detokso Kalėdinės dirbtuvės – puikus\, jaukus laikas sau. \n \n  \n  \n  \n  \n  \n  \n  \nProgramoje:\n• Išgirsite\, kaip „išgyventi“ šventinį laikotarpį\, kaip nepersivalgyti\, o taip pat\, ką daryti\, jei vis tik suvalgėte per daug. Kas organizme vyksta persivalgius tam tikrų produktų ir kaip sušvelninti pasekmes.\n• Sužinosite kai kurių produktų terminio apdorojimo ypatybes ir kaip ruošti patiekalus\, nepaverčiant jų kenksmingais sveikatai.\n• Išmoksite pasigaminti tradicinių patiekalų sveikesnes alternatyvas\, kurios skoniu net lenkia įprastus.\n• Pasigaminsite originalių\, skanių Kalėdinių patiekalų\, juos ragausite.\n• Kūrybinės dirbtuvės – “tvari dovana”.\n• Puikiai praleisite pusdienį šaunioje kompanijoje\, šventinėje atmosferoje\, jaukiose Demoroom patalpose. \nVieta: “Demoroom”\, Ševčenkos g.16i \nDalyvio mokestis: 36 Eur/asm.\nVaikams nuo 7-14 m.: 20 Eur \nDaugiau informacijos: kristina@[/vc_column_text][vc_btn title=”Registruotis dabar” color=”success” size=”lg” align=”center” link=”url:https%3A%2Fparduotuve%2Frenginiai%2Fkaledines-sveiko-maisto-dirbtuves%2F|||”][/vc_column][/vc_row][vc_row][vc_column][vc_column_text]Iki pasimatymo! \n \n[/vc_column_text][/vc_column][/vc_row][vc_row][vc_column][/vc_column][/vc_row]
URL:https://sveikuoliai.lt/renginys/kaledines-sveiko-maisto-dirbtuves/
CATEGORIES:Sveikuolių sąjungos renginiai
ATTACH;FMTTYPE=image/jpeg:https://sveikuoliai.lt/wp-content/uploads/2019/10/73416018_2381262675466513_7703642243357212672_o.jpg
END:VEVENT
END:VCALENDAR