BEGIN:VCALENDAR
VERSION:2.0
PRODID:-//Sveikuoliai - ECPv6.13.0//NONSGML v1.0//EN
CALSCALE:GREGORIAN
METHOD:PUBLISH
X-WR-CALNAME:Sveikuoliai
X-ORIGINAL-URL:https://sveikuoliai.lt
X-WR-CALDESC:Sveikuoliai renginiai
REFRESH-INTERVAL;VALUE=DURATION:PT1H
X-Robots-Tag:noindex
X-PUBLISHED-TTL:PT1H
BEGIN:VTIMEZONE
TZID:Europe/Vilnius
BEGIN:DAYLIGHT
TZOFFSETFROM:+0200
TZOFFSETTO:+0300
TZNAME:EEST
DTSTART:20230326T010000
END:DAYLIGHT
BEGIN:STANDARD
TZOFFSETFROM:+0300
TZOFFSETTO:+0200
TZNAME:EET
DTSTART:20231029T010000
END:STANDARD
END:VTIMEZONE
BEGIN:VEVENT
DTSTART;TZID=Europe/Vilnius:20230904T080000
DTEND;TZID=Europe/Vilnius:20230908T170000
DTSTAMP:20260420T102528
CREATED:20230414T064245Z
LAST-MODIFIED:20250124T195522Z
UID:43034-1693814400-1694192400@sveikuoliai.lt
SUMMARY:Senjorų stovykla "Mes galim!"
DESCRIPTION:Vienintelė sveikatingumo ugdymo stovykla senjorams Lietuvoje\, kurioje nebus kada galvoti kur ir ką skauda\, kur įkvėpsime jaunystės eliksyro\, tapsime žvalūs\, žaismingi\, sveiki ir laimingi su savo sidabrine gija galvose. \nStovykla skirta atgauti vidinę ramybę ir pasitikėjimą\, atjaunėti\, sustiprėti\, patirti teigiamų emocijų savo bendraminčių būryje\, pasidalinti savo patirtimi\, atsikratyti kūniškų ir dvasinių sopulių. \nPadovanokite sau ar savo artimiesiems galimybę atgauti GERĄ SAVIJAUTĄ\, sustabdyti senėjimo procesą bei pajusti tikrą GYVENIMO DŽIAUGSMĄ!!! Stovykla tinka VISIEMS senjorams\, nepriklausomai nuo jūsų sveikatos būklės ar fizinių pajėgumų. \nPROGRAMOJE: \n\nRytmetinė mankšta ir maudynės bet kokiu oru\nSveikatinanti mityba\, specialiai sukurta stovyklos dalyviams\nPaskaitos\, seminarai ir diskusijos\, kurias veda Lietuvos sveikuolių sąjungos lektoriai\nSavimasažo pamokos\nMasažai (papildomai)\nKvėpavimo pratimai\, meditacijos\nSenovės baltų ritualai su ugnimi ir nuodėguliu\, atstatantys fizinę ir psichinę pusiausvyrą\nLinijiniai šokiai\nVakaronės\nMeno terapijos\nSveiko maisto dirbtuvės\nPažintiniai žygiai po apylinkes\n\nPo stovyklos grįšite namo: \n\nĮgiję praktinių sveikos gyvensenos ir sveikatos stiprinimo žinių\nPAILSĖJĘ ir atgavę VIDINĘ RAMYBĘ bei PASITIKĖJIMĄ\nAtjaunėję ir pailsėję\nSužinoję kaip atsikratyti vaistų nuo daugelio negalavimų\, įgiję sveikesnį požiūrį į gyvenimą\nPasikrovę entuziazmo ir energijos\nAtradę naujų bičiulių ir draugų\n\nMaitinimas: \n\n\n\n\n\n\nSpecialiai stovyklos dalyviams bus ruošiamas sveikas\, subalansuotas vegetarinis maistas 3 kartus dienoje (pusryčiai\, pietūs ir vakarienė). \nAtsiliepimai: \nAtsiliepimus iš stovyklų rasite šiame puslapyje. \n\n\n\n\n\n\n\n\n\n\n\n\nRegistracija į stovyklą \n\n\n\n\n\n\n\n\n\n\n\n\nRegistracija vykdoma iki 2023 m. rugsėjo 4 d. užpildžius dalyvio registracijos anketą ir pervedus 100 Eur avanso mokestį arba visą sumą. \n\n\n\nApgyvendinimas: \nStovyklos dalyviai apgyvendinami moderniame dvare prie Vilniaus “Provansalis”.\nSkoningai įrengtuose kambariuose dalyvės apgyvendinamos po 2. Kambariuose 2 viengulės lovos arba 1 viengulė ir 1 dvigulė.\nTrims kambariams yra vienas vonios kambarys.\nGrindinis šildymas (esant poreikiui).\nPatogus privažiavimas asfaltuotu keliu\, stovėjimo aikštelė.\nTvenkinys\, moderni pirtis\, 10 hektarų privati valda\, miškas.\nDvaras įsikūręs šalia Vilniaus.\nTai – puiki vieta naudingai praleisti laiką natūralios gamtos prieglobstyje.\n\nDaugiau: www.provansalis.lt\nADRESAS: Babriškių k. 7\, Paberžės sen.\, Vilniaus raj. sav.\n\n\n\n\n\n\n\n\n\nStovykla vyks susirinkus būtinam dalyvių skaičiui\, priešingu atveju – pilna sumokėta suma (ar avansas) bus pilnai grąžinami.\n\n  \nVIETŲ NEBĖRA. BET JŲ KARTAIS ATSIRANDA 🙂 TEIRAUTIS 864800948 (KRISTINA) \n\n\n\n \n\nDaugiau informacijos:\ninfo@\, tel: +370 648 00948 (Kristina) \nSVARBU: registracija įsigalioja atlikus išankstinį mokėjimą už stovyklą ne vėliau kaip per 3 dienas nuo registracijos. \nSąskaitos rekvizitai tiesioginiam pavedimui\, jei neapmokėjote iškart\, registracijos metu:\nLietuvos sveikuolių sąjunga\, įmonės kodas: 191616227\nBanko sąskaitos Nr.: LT267300010151973368 \nPaskirtis: Senjorų stovykla “Mes galim!” 2023
URL:https://sveikuoliai.lt/renginys/senjoru-stovykla-mes-galim-2023/
ATTACH;FMTTYPE=image/jpeg:https://sveikuoliai.lt/wp-content/uploads/2023/04/Vasara-3.jpg
END:VEVENT
BEGIN:VEVENT
DTSTART;TZID=Europe/Vilnius:20230920T180000
DTEND;TZID=Europe/Vilnius:20230920T210000
DTSTAMP:20260420T102528
CREATED:20221123T114832Z
LAST-MODIFIED:20230914T112104Z
UID:39018-1695232800-1695243600@sveikuoliai.lt
SUMMARY:VIETŲ NĖRA. Webinaras tėvams "Kaip padėti savo vaikui gerinti regėjimą natūraliais būdais?"
DESCRIPTION:Tėvai\, iš gydytojų išgirdę apie sutrikusį vaiko regėjimą\, dažnai išsigąsta ir greitai priima siūlomą sprendimą uždėti akinius ar operuotis. Tik vėliau\, matydami ir suprasdami\, kad akiniai regėjimo negerina\, kad reikia stiprinti akinukus\, o žvairumui panaikinti neretai neužtenka vienos operacijos\, pradeda ieškoti daugiau informacijos. \nŠis webinaras skirtas tėvams\, auginantiems mažamečius vaikus (0-10 m.) su regėjimo sutrikimais: trumparegystė\, toliaregystė\, žvairumas\, akis „tinginė“\, astigmatizmas\, nistagmas\, fotofobija ir pan. Taip pat toms šeimoms\, kurios ieško kitokių būdų nei akiniai ar operacijos padėti savo vaikams. \nŽinomas amerikiečių gydytojas oftalmologas V. H. Beitsas tvirtino\, kad neuždėjus vaikams akinių\, regėjimą galima sugrąžinti vos per keletą savaičių. Kartais tai užtrunka 6-12 mėnesių\, tačiau vaikams iki 12 metų gerą regėjimą beveik visada galima sugrąžinti natūraliai. \nKalbėsime apie: \n\npagrindines priežastis\, dėl kurių sutrinka vaikų regėjimas\nkodėl akiniai nepadeda susigrąžinti gero regėjimo\nefektyvias priemones ir būdus\, padedančius vaikams gerinti regėjimą natūraliai\n\nNagrinėsime kiekvieną istoriją individualiai ir ieškosime individualių sprendimų. \nTrukmė – 3 val. \nVieta: Zoom platforma. Užsiregistravusieji gaus laiškus su prisijungimu likus 30 min iki susitikimo pradžios \nWebinarą veda: Sigita Labutienė\, Lietuvos sveikuolių sąjungos viceprezidentė\, regėjimo gerinimo stovyklų pradininkė šalyje\, sertifikuota V. H. Beitso metodo mokytoja. \nPaskaitos įrašas BUS \n  \n\nLAISVŲ VIETŲ NĖRA! \n\nKaina 49 eur \nRegistruotis dabar\nDaugiau informacijos: \nsigita@\, tel: +37065631211
URL:https://sveikuoliai.lt/renginys/webinaras-tevams-kaip-padeti-savo-vaikui-gerinti-regejima-naturaliais-budais/
END:VEVENT
BEGIN:VEVENT
DTSTART;TZID=Europe/Vilnius:20230921T110000
DTEND;TZID=Europe/Vilnius:20230924T150000
DTSTAMP:20260420T102528
CREATED:20230309T154657Z
LAST-MODIFIED:20230831T051305Z
UID:42449-1695294000-1695567600@sveikuoliai.lt
SUMMARY:Ilgasis detokso savaitgalis Ruduo
DESCRIPTION:Detokso ilgasis savaitgalis\nTai 4 dienos skirtos giliam poilsiui\, ramybei\, sielos ir kūno detoksui. Jos metu sužinosite kaip maistas veikia jūsų kūną\, kaip maitintis sveikai\, lengvai ir skaniai\, numesti svorio visam gyvenimui\, dalyvausite dirbtuvėse ir degustacijose. O taip pat didelį dėmesį skirsime atsipalaidavimui\, sveikai gyvensenai\, savęs pažinimui\, santykiams\, vidinei harmonijai atrasti. \nPROGRAMOJE \n\nsveikos mitybos paskaitos;\nemocinio valgymo suvokimo praktikos;\nholistinės sveikos gyvensenos koncepcija;\nsveiko maisto\, desertų gaminimo dirbtuvės;\nrytinė mankšta ir maudynės;\nbuvimas gamtoje;\nsavęs pažinimo praktikos;\ngarso ir muzikinės terapijos;\nrytinės meditacijos;\n“Innerdance” savęs pažinimo meditacija;\ngamtos terapija;\nsavimasažo praktika;\npirtis ir jos ritualai;\nmeno terapijos\, skirtos savęs pažinimui;\nemocijų paleidimo praktikos;\nPraktikos: kaip atsikratyti savo baimių ir kaip kalbėti taip\, kad mane išgirstų\nvakaronės ir jaukūs pokalbiai\n\nSTOVYKLOJE \n\nišmoksite valgymo kultūros;\nsužinosite\, kaip natūraliai kontroliuoti svorį;\nišmoksite atsipalaidavimo\, neigiamų emocijų valdymo technikų;\nfiziniai pratimai\, koreguojanti gimnastika;\natpalaiduojančios kvėpavimo\, garso technikos;\ngrūdinimosi principai;\ngilus atsipalaidavimas ir harmoninga aplinka;\npraktinės žinios ir dirbtuvės;\nskanus ir sveikas maistas\, atstatantis organizmą;\nįdomūs lektoriai;\nbendraminčiai;\nsveikas\, vegetarinis maistas\, skirtas organizmo detoksui ir regeneracijai.\n\nAPGYVENDINIMAS: \nStovyklos dalyviai apgyvendinami moderniame dvare prie Vilniaus “Provansalis”.\nSkoningai įrengtuose kambariuose dalyvės apgyvendinamos po 2. Kambariuose 2 viengulės lovos arba 1 viengulė ir 1 dvigulė.\nTrims kambariams yra vienas vonios kambarys.\nGrindinis šildymas (esant poreikiui).\nPatogus privažiavimas asfaltuotu keliu\, stovėjimo aikštelė.\nTvenkinys\, moderni pirtis\, 10 hektarų privati valda\, miškas.\nDvaras įsikūręs šalia Vilniaus.\nTai – puiki vieta naudingai praleisti laiką natūralios gamtos prieglobstyje.\n\nDaugiau: www.provansalis.lt\nADRESAS: Babriškių k. 7\, Paberžės sen.\, Vilniaus raj. sav.\n\n\n\n\n\n\n\n\nMAITINIMAS:\n\n3 kartus per dieną\, sveikas\, vegetarinis maitinimas be pridėtinio cukraus\, be glitimo (galimas veganiškas).\n   \n  \nDalyvio mokestis: 329 Eur \n  \nATSILIEPIMAI IŠ PRAEITŲ CUKRAUS DETOKSO STOVYKLŲ: \n\n\n\n  \n\nVIETŲ NĖRA. BET KARTAIS ATSIRANDA 🙂 \nTEIRAUTIS 864800948 \nPAPILDOMA INFORMACIJA:\nEl. paštu: kristina@ / cukrausdetoksas@gmail.com\n8 648 00948 (Kristina)
URL:https://sveikuoliai.lt/renginys/ilgasis-detokso-savaitgalis-ruduo/
CATEGORIES:stovyklos
ATTACH;FMTTYPE=image/jpeg:https://sveikuoliai.lt/wp-content/uploads/2023/03/Vasara-2.jpg
END:VEVENT
END:VCALENDAR