BEGIN:VCALENDAR
VERSION:2.0
PRODID:-//Sveikuoliai - ECPv6.13.0//NONSGML v1.0//EN
CALSCALE:GREGORIAN
METHOD:PUBLISH
X-WR-CALNAME:Sveikuoliai
X-ORIGINAL-URL:https://sveikuoliai.lt
X-WR-CALDESC:Sveikuoliai renginiai
REFRESH-INTERVAL;VALUE=DURATION:PT1H
X-Robots-Tag:noindex
X-PUBLISHED-TTL:PT1H
BEGIN:VTIMEZONE
TZID:Europe/Vilnius
BEGIN:DAYLIGHT
TZOFFSETFROM:+0200
TZOFFSETTO:+0300
TZNAME:EEST
DTSTART:20230326T010000
END:DAYLIGHT
BEGIN:STANDARD
TZOFFSETFROM:+0300
TZOFFSETTO:+0200
TZNAME:EET
DTSTART:20231029T010000
END:STANDARD
BEGIN:DAYLIGHT
TZOFFSETFROM:+0200
TZOFFSETTO:+0300
TZNAME:EEST
DTSTART:20240331T010000
END:DAYLIGHT
BEGIN:STANDARD
TZOFFSETFROM:+0300
TZOFFSETTO:+0200
TZNAME:EET
DTSTART:20241027T010000
END:STANDARD
END:VTIMEZONE
BEGIN:VEVENT
DTSTART;TZID=Europe/Vilnius:20231201T080000
DTEND;TZID=Europe/Vilnius:20240222T170000
DTSTAMP:20260420T052832
CREATED:20231121T114442Z
LAST-MODIFIED:20240223T083030Z
UID:45882-1701417600-1708621200@sveikuoliai.lt
SUMMARY:Ledinės nuotraukos konkursas 2024
DESCRIPTION:Konkurso tikslas  ir idėja yra paskatinti žmones grūdintis. Grūdintis plačiąja prasme\, nes tikimės\, kad darydami “Ledinę nuotrauką” prieš tai padarysite apšilimą\, mankštą ar kitą fizinę veiklą gryname ore\, kuri taip pat grūdina mūsų organizmą. \nOrganizatorius \nKonkursą organizuoja Lietuvos sveikuolių sąjunga. Šios taisyklės pristato konkurso sąlygas. Teikdamas paraišką konkurso dalyvis sutinka su taisyklėmis ir užtikrina\, kad jo paraiška atitinka visus pateiktus reikalavimus. \nDalyvavimo konkurse taisyklės: \n\nKonkurse gali dalyvauti visi norintys.\nKonkursas vyksta nuo gruodžio 1 d. iki vasario 22 d. Nuotraukos\, įkeltos į portalą sveikuoliai.lt po vasario 22 d.\, konkurse nedalyvaus.\nKonkursui „Ledinė nuotrauka“ siųskite tik temą atitinkančias nuotraukas. Nuotraukos\, neatitinkančios temos\, bus šalinamos.\nFotokonkursui kiekvienas dalyvis gali įkelti ne daugiau nei 3 nuotraukas.\nKonkurso dalyvis patvirtina ir užtikrina\, kad pateiktos nuotraukos yra originalūs jo kūriniai\, nepažeidžiantys kito asmens ar autoriaus teisių ir kitos intelektinės nuosavybės teisių\, kad kiti asmenys į šias nuotraukas neturi jokių teisių ar teisėtų interesų.\nNuotraukose negali būti nepadorių ar prieštaraujančių moralės normoms vaizdų\, informacijos.\nNuotraukose negali būti reklamos.\nDalyvavimas konkurse yra nemokamas.\n\nReikalavimai nuotraukai: \n\nNuotrauka turi atitikti konkurso temą. Turi matytis (arba būtų galima aiškiai suprasti)\, kad žmogus yra lediniame vandenyje\, ant sniego\, ledo ar grūdinasi kitu lediniu būdu.\nNuotraukos gali būti patobulintos (apdirbtos) skaitmeniniu būdu: apkirptos\, išlygintos\, pakoreguotos spalvos\, kontrastas ir t.t.\nNuotraukos turi būti nufotografuotos per pastaruosius metus.\nNepamirškite nuotraukai suteikti pavadinimą.\n\nNuotraukų vertinimas: \n\nKonkurso nuotraukas vertins Lietuvos sveikuolių sąjungos komisija\, atsižvelgdama į temos išpildymą\, originalumą\, techninį atlikimą\, kūrybiškumą\, taip pat gali būti surengtas viešas nuotraukų balsavimas internete.\nKonkurso metu bus išrinkti keli laimėtojai.\nKonkurso laimėtojai bus paskelbti kovo 2 dieną\, Trakuose vyksiančiose 25 metrų plaukimo varžybose ir paskelbtos portale sveikuoliai.lt (nurodant laimėtojų nuotraukas\, vardus ir pavardes).\nKonkurso nugalėtojams bus įteikti mūsų bei rėmėjų įsteigti prizai. (bus patikslinta konkursui įsibėgėjus)\n\nKiti nuostatai: \n1. Konkurso organizatoriai pasilieka teisę be išankstinio perspėjimo savo nuožiūra trinti nuotraukas\, kurios neatitinka konkurso reikalavimų ar pažeidžia nuotraukoje pavaizduotų žmonių garbę ir orumą\, teisės aktų reikalavimus ar moralės ir etikos normas.\n2. Konkurso nuotraukos publikuojamos ir rodomos lankytojams portale www.sveikuoliai.lt ir socialinių tinklų platformose.\n3. Konkurso dalyviai\, įkeldami konkursines nuotraukas į portalą www.sveikuoliai.lt\, sutinka ir patvirtina\, kad:\na) konkurso organizatoriai turi teisę (be autoriaus sutikimo) nuotraukas neatlygintinai naudoti konkurso reklamos ir informacijos apie konkursą sklaidos tikslais (nurodant autorių);\nb) dalyvio atsiųstos nuotraukos šiose taisyklėse nustatyta tvarka yra publikuojamos neatlygintinai;\nc) dalyvis yra susipažinęs su šiomis taisyklėmis ir įsipareigoja jų laikytis.\n4. Konkurso organizatoriai pasilieka teisę keisti “Ledinės nuotraukos” konkurso taisykles.\n5. Jei turite klausimų\, pasiūlymų ar pastebėjimų\, prašome rašyti į el. paštą: simonas@ \nNoriu dalyvauti! \nNuotraukos konkursui priimamos gruodžio 1 d. – vasario 22 d. Užpildykite žemiau esančią konkurso dalyvio anketą\, pažymėkite\, kad sutinkate su konkurso taisyklėmis ir įdėkite nuotrauką\, atitinkančią čia nurodytus reikalavimus. \nNuotrauka konkurse dalyvaus tik tuomet\, kai ją patvirtins administratorius. \nREGISTRACIJA IR NUOTRAUKOS ĮKĖLIMAS
URL:https://sveikuoliai.lt/renginys/ledines-nuotraukos-konkursas-2024/
CATEGORIES:Sveikuolių sąjungos renginiai
ATTACH;FMTTYPE=image/jpeg:https://sveikuoliai.lt/wp-content/uploads/2023/11/Nuotrauku-konkursas-2024.jpg
ORGANIZER;CN="Lietuvos sveikuoli%C5%B3 s%C4%85junga":MAILTO:simonas@sveikuoliai.lt
END:VEVENT
BEGIN:VEVENT
DTSTART;TZID=Europe/Vilnius:20231202T100000
DTEND;TZID=Europe/Vilnius:20231202T100000
DTSTAMP:20260420T052832
CREATED:20231121T112917Z
LAST-MODIFIED:20231121T112917Z
UID:45878-1701511200-1701511200@sveikuoliai.lt
SUMMARY:Žiemos maudynių sezono atidarymas
DESCRIPTION:Maudynių sezonas kaip ir neužsidaro\, bet simboliškai paminėti žiemos atėjimą tikrai galim! \nSusitinkam prie ežero gruodžio 2 dieną\, šeštadienį\, 11 valandą. Neriam kaip visada\, septynioliką minučių po. \nAtidarymas improvizuotas ir suneštinis\, kas kuo nori\, tas taip prisideda. (saksofonas\, arbata t.t…) Komunikuoti galime Vilniaus eketės facebooko grupėje. \nPrograma: \n10:00 Susitinkam\n10:00 – 10:15 Bendraujam/mankštinamės\n10:15- 10:17 Rengiamės\n10:17 Neriam!\n10:20 Bendra\, nauja grupės\, viršelio nuotrauka\n10:21 Arbata\, šokiai arba antras užėjimas į eketę\n15:28 skirstomės namo.
URL:https://sveikuoliai.lt/renginys/ziemos-maudyniu-sezono-atidarymas-3/
ATTACH;FMTTYPE=image/jpeg:https://sveikuoliai.lt/wp-content/uploads/2023/11/Ziemos-maudyniu-sezono-atidarymas.jpg
END:VEVENT
BEGIN:VEVENT
DTSTART;TZID=Europe/Vilnius:20231208T180000
DTEND;TZID=Europe/Vilnius:20231210T180000
DTSTAMP:20260420T052832
CREATED:20231127T103336Z
LAST-MODIFIED:20231127T113125Z
UID:45971-1702058400-1702231200@sveikuoliai.lt
SUMMARY:Kalėdinis sveikuolių susitikimas
DESCRIPTION:Kviečiame Lietuvos sveikuolių sąjungos klubų narius\, savanorius\, lektorius ir narius-rėmėjus* dalyvauti Kalėdiniame susitikime stovyklų sostinėje tapusiame Dvarčėnų dvare. \nTai susitikimas\, skirtas pasibūti drauge\, pasidalinti savo patirtimis\, aptarti nuveiktus metų darbus\, pagvildenti naujas idėjas veikloms ir tiesiog gerai praleisti laiką kartu! \nPROGRAMA: \nPENKTADIENIS\, gruodžio 8 d. \n18.00-21.00 – atvykimas\, PIRTIS \nŠEŠTADIENIS\, gruodžio 9 d. \n7.00-8.00 – mankšta ir maudynės; \n9.00-10.00 – pusryčiai; \n10.00-12.00 – Kaip paruošti tradicinį Kūčių stalą. Praktinės dirbtuvės su Žolinčių akademijos prezidente Danutė Kunčiene. \n12.00-14.00 – Kelias į sveiką gyvenimo būdą. Pasidalinimas patirtimis grupėse. \n14.00-15.00 – pietūs \n15.00-18.00 – Kalėdinių vainikų ir dekoracijų dirbtuvės. \n18.00-19.00 – vakarienė \n19.00-21.00 – Bendravimo vakaras. \nSEKMADIENIS\, gruodžio 10 d. \n7.00-8.00 – mankšta ir maudynės; \n9.00-10.00 – pusryčiai; \n10.00-12.00 – 2024 m. projektų pristatymas ir aptarimas. \nNuo 12 val. išvykimas \n*Nariai-rėmėjai gali dalyvauti\, jei tris metus iš eilės moka nario-rėmėjo mokestį. \nRENGINYS NEMOKAMAS. \nREGISTRACIJA
URL:https://sveikuoliai.lt/renginys/kaledinis-sveikuoliu-susitikimas/
ATTACH;FMTTYPE=image/jpeg:https://sveikuoliai.lt/wp-content/uploads/2021/12/20211211-IMG_1392-scaled.jpg
ORGANIZER;CN="Lietuvos sveikuoli%C5%B3 s%C4%85junga":MAILTO:simonas@sveikuoliai.lt
END:VEVENT
BEGIN:VEVENT
DTSTART;TZID=Europe/Vilnius:20231212T180000
DTEND;TZID=Europe/Vilnius:20231212T180000
DTSTAMP:20260420T052832
CREATED:20230214T114457Z
LAST-MODIFIED:20251124T135544Z
UID:41359-1702404000-1702404000@sveikuoliai.lt
SUMMARY:Regėjimo gerinimo pratybos internetu 2023
DESCRIPTION:REGĖJIMO GERINIMO PRATYBOS \nLapkričio 28 d.\, gruodžio 5 d.\, 12 d. ir 19 d.\nZoom platformoje \nKiekviena paskaita bus įrašoma ir pasiekiama peržiūrai savaitę laiko po tiesioginės transliacijos. \nAr norėtum vėl matyti pasaulį ryškiai ir visiškai atsisakyti akinių natūraliais būdais be jokių operacijų? \nTai gali padaryti jau dabar! \n \nTu daug valandų praleidi prie kompiuterio? Dažnai pervargsti ar patiri stresą darbe\, mokykloje ar namuose? Nenuostabu\, kad tavo akys nebemato taip\, kaip anksčiau. Jos prašo poilsio\, priežiūros ir natūralaus\, taisyklingo bei gero žiūrėjimo įpročių sugrąžinimo. Per pratybas viso to ir mokysimės\, praktikuosime. \nKeturios temos.  \nGalite prisijungti nuo bet kurios temos. \nJose sužinosite: \n\n\n\nTema 1 – „Įvadas. Kaip vėl gerai matyti be akinių?“\n Lapkričio 28 d. (antradienis) 18:00-20:00 val. \nAkies veikimo principai ir pagrindinės regėjimo blogėjimo priežastys \nKaip išsaugoti gerą regėjimą ilgą laiką dirbant su kompiuteriu? \nKodėl akių mankšta ir pratimai neduoda ilgalaikio rezultato? \nPaprasti praktiniai metodai\, leidžiantys atstatyti ir stiprinti regėjimą \nPraktiniai užsiėmimai \n Klausimai – atsakymai \n\nTema 2 – „Judėjimas. Periferinio regėjimo aktyvavimas ir išplėtimas“\nGruodžio 5 d. (antradienis) 18:00-20.00 val. \n\n\nKiek svarbus yra judėjimas\, koks jo ryšys su geru regėjimu bei atsipalaidavimu. Geram regėjimui būtini judėjimo tipai:\n\nfizinis akių ir viso kūno judėjimas;\nregimo vaizdo judėjimas;\ndėmesio judėjimas.\n\nTamsos svarba periferiniam regėjimui. \nTema 3 – „Centralizavimas (dėmesys į detales). Centrinio regėjimo aktyvavimas“\nGruodžio 12 d. (antradienis) 18:00-20.00 val. \nPratybose detaliau susipažinsite su akies struktūra ir suprasite\, kodėl akis vienu metu mato tik vieną sritį ryškiausiai. Kas yra spoksojimas (dėmesio išskaidymas) ir kodėl jis yra viena pagrindinių regėjimo sutrikimo priežasčių. Kaip taisyklingai žiūrėti į daiktus ir vaizdus\, kad susigrąžintume natūralius\, prigimtinius\, taisyklingus\, gero regėjimo įpročius. \nTema 4 – „Veikla iš arti. Ką daryti veiklos metu ir per pertraukėles\, kad akys išliktų atsipalaidavusios. Abiejų akių darbo subalansavimas“\nGruodžio 19 d. (antradienis) 18:00-20.00 val. \nKaip apjungiant atsipalaidavimo\, judėjimo\, centralizavimo ir abiejų akių darbo subalansavimo principus\, susigrąžinti ir išlaikyti gerą regėjimą: \n\ndirbant prie kompiuterio;\nskaitant;\nnaudojantis išmaniuoju telefonu ar planšete;\nilgai atliekant bet kokią kitą artimą veiklą.\n\n\n\n\n\n\nTaip pat išmoksite įtraukti gero regėjimo principus ir praktikas į savo kasdienybę\, neskirdami tam papildomo laiko. \nNaudą ir teigiamą poveikį akims bei savo regėjimui pamatysite iš karto! \nKiekviena paskaita bus įrašoma ir pasiekiama peržiūrai savaitę laiko po tiesioginės transliacijos. \nKaip pasiruošti\, ką turėti su savimi: \n\nBūkite be lęšių.\n\n\n\n\n\n\n\nŠtai ką šias efektyvias praktikas išbandę žmonės kalba apie jas: \n\n\n\n\n\n\n\n\n\n\n\n\nPratybas veda: \nSigita Labutienė \nLietuvos sveikuolių sąjungos viceprezidentė\, regėjimo gerinimo stovyklų Lietuvoje pradininkė\, sertifikuota V. H. Beitso metodo lektorė. Prieš dvylika metų atsisakiusi akinių\, sustiprinusi savo regėjimą\, Sigita šiuo metu dalinasi patirtimi ir visame pasaulyje žinomo oftalmologo V. H. Beitso paliktomis žiniomis\, leidžiančiomis sustiprinti ar net visiškai atsistatyti gerą regėjimą. \n  \nVienos temos kaina: \n39 EUR \nMokant už visas keturias temas iš karto\, kaina: \n 156 117 EUR \nKiekviena paskaita bus įrašoma ir pasiekiama peržiūrai savaitę laiko po tiesioginės transliacijos. \nRegistruotis dabar\nDaugiau informacijos: \nsigita@\, tel: +37065631211
URL:https://sveikuoliai.lt/renginys/regejimo-gerinimo-pratybos-internetu-2023/
CATEGORIES:Sveikuolių sąjungos renginiai
ATTACH;FMTTYPE=image/jpeg:https://sveikuoliai.lt/wp-content/uploads/2016/04/geros-akys.jpg
END:VEVENT
END:VCALENDAR