BEGIN:VCALENDAR
VERSION:2.0
PRODID:-//Sveikuoliai - ECPv6.13.0//NONSGML v1.0//EN
CALSCALE:GREGORIAN
METHOD:PUBLISH
X-ORIGINAL-URL:https://sveikuoliai.lt
X-WR-CALDESC:Sveikuoliai renginiai
REFRESH-INTERVAL;VALUE=DURATION:PT1H
X-Robots-Tag:noindex
X-PUBLISHED-TTL:PT1H
BEGIN:VTIMEZONE
TZID:Europe/Vilnius
BEGIN:DAYLIGHT
TZOFFSETFROM:+0200
TZOFFSETTO:+0300
TZNAME:EEST
DTSTART:20230326T010000
END:DAYLIGHT
BEGIN:STANDARD
TZOFFSETFROM:+0300
TZOFFSETTO:+0200
TZNAME:EET
DTSTART:20231029T010000
END:STANDARD
BEGIN:DAYLIGHT
TZOFFSETFROM:+0200
TZOFFSETTO:+0300
TZNAME:EEST
DTSTART:20240331T010000
END:DAYLIGHT
BEGIN:STANDARD
TZOFFSETFROM:+0300
TZOFFSETTO:+0200
TZNAME:EET
DTSTART:20241027T010000
END:STANDARD
END:VTIMEZONE
BEGIN:VEVENT
DTSTART;TZID=Europe/Vilnius:20231201T080000
DTEND;TZID=Europe/Vilnius:20240222T170000
DTSTAMP:20260420T070356
CREATED:20231121T114442Z
LAST-MODIFIED:20240223T083030Z
UID:45882-1701417600-1708621200@sveikuoliai.lt
SUMMARY:Ledinės nuotraukos konkursas 2024
DESCRIPTION:Konkurso tikslas  ir idėja yra paskatinti žmones grūdintis. Grūdintis plačiąja prasme\, nes tikimės\, kad darydami “Ledinę nuotrauką” prieš tai padarysite apšilimą\, mankštą ar kitą fizinę veiklą gryname ore\, kuri taip pat grūdina mūsų organizmą. \nOrganizatorius \nKonkursą organizuoja Lietuvos sveikuolių sąjunga. Šios taisyklės pristato konkurso sąlygas. Teikdamas paraišką konkurso dalyvis sutinka su taisyklėmis ir užtikrina\, kad jo paraiška atitinka visus pateiktus reikalavimus. \nDalyvavimo konkurse taisyklės: \n\nKonkurse gali dalyvauti visi norintys.\nKonkursas vyksta nuo gruodžio 1 d. iki vasario 22 d. Nuotraukos\, įkeltos į portalą sveikuoliai.lt po vasario 22 d.\, konkurse nedalyvaus.\nKonkursui „Ledinė nuotrauka“ siųskite tik temą atitinkančias nuotraukas. Nuotraukos\, neatitinkančios temos\, bus šalinamos.\nFotokonkursui kiekvienas dalyvis gali įkelti ne daugiau nei 3 nuotraukas.\nKonkurso dalyvis patvirtina ir užtikrina\, kad pateiktos nuotraukos yra originalūs jo kūriniai\, nepažeidžiantys kito asmens ar autoriaus teisių ir kitos intelektinės nuosavybės teisių\, kad kiti asmenys į šias nuotraukas neturi jokių teisių ar teisėtų interesų.\nNuotraukose negali būti nepadorių ar prieštaraujančių moralės normoms vaizdų\, informacijos.\nNuotraukose negali būti reklamos.\nDalyvavimas konkurse yra nemokamas.\n\nReikalavimai nuotraukai: \n\nNuotrauka turi atitikti konkurso temą. Turi matytis (arba būtų galima aiškiai suprasti)\, kad žmogus yra lediniame vandenyje\, ant sniego\, ledo ar grūdinasi kitu lediniu būdu.\nNuotraukos gali būti patobulintos (apdirbtos) skaitmeniniu būdu: apkirptos\, išlygintos\, pakoreguotos spalvos\, kontrastas ir t.t.\nNuotraukos turi būti nufotografuotos per pastaruosius metus.\nNepamirškite nuotraukai suteikti pavadinimą.\n\nNuotraukų vertinimas: \n\nKonkurso nuotraukas vertins Lietuvos sveikuolių sąjungos komisija\, atsižvelgdama į temos išpildymą\, originalumą\, techninį atlikimą\, kūrybiškumą\, taip pat gali būti surengtas viešas nuotraukų balsavimas internete.\nKonkurso metu bus išrinkti keli laimėtojai.\nKonkurso laimėtojai bus paskelbti kovo 2 dieną\, Trakuose vyksiančiose 25 metrų plaukimo varžybose ir paskelbtos portale sveikuoliai.lt (nurodant laimėtojų nuotraukas\, vardus ir pavardes).\nKonkurso nugalėtojams bus įteikti mūsų bei rėmėjų įsteigti prizai. (bus patikslinta konkursui įsibėgėjus)\n\nKiti nuostatai: \n1. Konkurso organizatoriai pasilieka teisę be išankstinio perspėjimo savo nuožiūra trinti nuotraukas\, kurios neatitinka konkurso reikalavimų ar pažeidžia nuotraukoje pavaizduotų žmonių garbę ir orumą\, teisės aktų reikalavimus ar moralės ir etikos normas.\n2. Konkurso nuotraukos publikuojamos ir rodomos lankytojams portale www.sveikuoliai.lt ir socialinių tinklų platformose.\n3. Konkurso dalyviai\, įkeldami konkursines nuotraukas į portalą www.sveikuoliai.lt\, sutinka ir patvirtina\, kad:\na) konkurso organizatoriai turi teisę (be autoriaus sutikimo) nuotraukas neatlygintinai naudoti konkurso reklamos ir informacijos apie konkursą sklaidos tikslais (nurodant autorių);\nb) dalyvio atsiųstos nuotraukos šiose taisyklėse nustatyta tvarka yra publikuojamos neatlygintinai;\nc) dalyvis yra susipažinęs su šiomis taisyklėmis ir įsipareigoja jų laikytis.\n4. Konkurso organizatoriai pasilieka teisę keisti “Ledinės nuotraukos” konkurso taisykles.\n5. Jei turite klausimų\, pasiūlymų ar pastebėjimų\, prašome rašyti į el. paštą: simonas@ \nNoriu dalyvauti! \nNuotraukos konkursui priimamos gruodžio 1 d. – vasario 22 d. Užpildykite žemiau esančią konkurso dalyvio anketą\, pažymėkite\, kad sutinkate su konkurso taisyklėmis ir įdėkite nuotrauką\, atitinkančią čia nurodytus reikalavimus. \nNuotrauka konkurse dalyvaus tik tuomet\, kai ją patvirtins administratorius. \nREGISTRACIJA IR NUOTRAUKOS ĮKĖLIMAS
URL:https://sveikuoliai.lt/renginys/ledines-nuotraukos-konkursas-2024/
CATEGORIES:Sveikuolių sąjungos renginiai
ATTACH;FMTTYPE=image/jpeg:https://sveikuoliai.lt/wp-content/uploads/2023/11/Nuotrauku-konkursas-2024.jpg
ORGANIZER;CN="Lietuvos sveikuoli%C5%B3 s%C4%85junga":MAILTO:simonas@sveikuoliai.lt
END:VEVENT
BEGIN:VEVENT
DTSTART;VALUE=DATE:20240101
DTEND;VALUE=DATE:20240102
DTSTAMP:20260420T070356
CREATED:20231220T150545Z
LAST-MODIFIED:20240101T073824Z
UID:46579-1704067200-1704153599@sveikuoliai.lt
SUMMARY:Sausio 1 dieną visi į eketę - Pasaulinė ruonių diena 2024!
DESCRIPTION:Ledinių maudynių aistruoliai sausio 1-ąją švenčia ne tik Naujuosius metus\, bet ir Pasaulinę ruonių dieną. Daugelyje Lietuvos miestų ir miestelių sveikuoliai neria į ežerus\, upes ar jūrą. Jau dabar kviečiame burtis vieniems arčiau kitų\, registruoti maudynių vietas visoje Lietuvoje. Ruoniai yra vieni medžiojamiausių jūros žinduolių pasaulyje bei priskiriami prie labiausiai nykstančių gyvūnų. Pasaulinė ruonių diena minima nuo 1982 m. Jungtinių Valstijų kongreso iniciatyva. Pasaulinę ruonių dieną\, kiekvienų metų 1-ąją dieną\, ypatingai pažymi ledinių maudynių aistruoliai “ruoniai” – rengia susitikimus ir neria į ledinį vandenį. \nVILNIUS: 11:00 val. Žalieji ežerai / Simonas Dailidė \nKAUNAS: 10:00. Lampėdžių pirtelė / Darius \nPAJŪRIS: 9h. Susitikimas Girulių pagrindinėje aikštelėje ir 13 val. Antrosios Melnragės paplūdimyje. \nRADVILIŠKIS: 12:00 val. Eibariškių parko tvenkinyje / Tadas Grimaila \nŠIAULIAI: 12:00 Bubių tvenkinys / Remigijus \nUKMERGĖ: 14:00 Rečionių paplūdimys\, Kurėnų ežeras/. / Vainius Stanevičius \nALYTUS: 13:00 Mažasis Dailidės ežerėlis/Jūratė \nANYKŠČIAI: 10:00 Šventosios upė (Vilniaus 80 B) \nELEKTRĖNAI: 10 val. Elektrėnų paplūdimyje prie tiltelio / Saulius \nKELMĖS R: 15:00 Naujoji Gokula (Kražių g. 13\, Butkiškė) \nMARIJAMPOLĖ: 11:00 Pašešupio parkas prie vaikų žaidimų aikštelės. \nTAURAGĖ:  12:00 Keramikos papludimys \nBAISOGALA: 13:00 Baisogalos užtvanka\, wake parko vietoje \nJONAVA: 13:00 Jonavos joninių slėnis \nTELŠIAI: 12:00 Ilgio ežeras \nUTENA: 15: 00 Klykių ežeras / Mantas \nPASVALYS: 11:00 Kultūros ir poilsio parkas \nPLUNGĖ: 12:00 Plungės Jūra\, meilės kalnelis \nMAŽEIKIŲ R. 13:00 Ventos upė\, Paulianka \, Krakių k / Vilma. \nSKUODAS: 12:00 val. Skuodo m. paplūdimys\, Krantinės g. 1A. \nPANVĖŽYS: 11:00 Ekrano marių maudykla \n\nROKIŠKIS: 11:00 Rokiškio ežere \n\n\n\nKĖDAINIAI: 14:00 Ašarėnų tvenkinys\, Pelėdnagiai \n\nJei organizuojate ar žinote\, kurioje vietoje organizuojamos sausio 1 dienos ledinės maudynės\, parašykite komentare žemiau vietą\, laiką ir kontaktus organizuojančio žmogaus. Viską apjungsime po vienu stogu\, čia šiame pranešime\, kad galėtumėme lengviau rasti vieni kitus. Taip pat naudokitės ekečių žemėlapiu ieškodami artimiausios jums eketės:  Primename\, kad vyksta ledinės nuotraukos konkursas į kurį gali atsiųsti savo ledinę nuotrauką! https:/renginys/ledines-nuotraukos-konkursas-2023/
URL:https://sveikuoliai.lt/renginys/pasauline-ruoniu-diena-2024/
CATEGORIES:Sveikuolių sąjungos renginiai
ATTACH;FMTTYPE=image/jpeg:https://sveikuoliai.lt/wp-content/uploads/2023/12/Violeta-Kiliute-1.jpg
ORGANIZER;CN="Lietuvos sveikuoli%C5%B3 s%C4%85junga":MAILTO:simonas@sveikuoliai.lt
END:VEVENT
BEGIN:VEVENT
DTSTART;TZID=Europe/Vilnius:20240117T180000
DTEND;TZID=Europe/Vilnius:20240117T200000
DTSTAMP:20260420T070356
CREATED:20240108T162140Z
LAST-MODIFIED:20240131T191347Z
UID:46851-1705514400-1705521600@sveikuoliai.lt
SUMMARY:100 kartų kartoji\, o atrodo\, kad tavęs niekas negirdi...?
DESCRIPTION:Lietuvos sveikuolių sąjungos valdybos narė bei šeimos santykių temas analizuojanti lektorė Eglė Kislovski\, pristato naują gyvų susitikimų ciklą vakarienės formate. \nPirmojo susitikimo tema „100 kartų kartoji\, o atrodo\, kad tavęs niekas negirdi…?“  ar ir Jums bendraujant su vaikais taip atsitinka? ir atrodo\, kad amžius gali būti labai skirtingas ar tai 2 metai ar 16\, o gal dar daugiau??? \nSusitikime sužinosite: \n\nkodėl vaikai Jūsų negirdi;\nkonkrečius būdus\, ką galite padaryti\, kad jus išgirstų;\nkai pagilinti santykį su vaikais.\n\nSkaniai\, lengvai ir prasmingai pabendrausime ir įgausite naujų žinių bei įrankių kaip galime būti išgirstais. Galėsite užduoti Jums rūpimus klausimus. \nSusitikimas vyks iš karto po darbų\, tad kviečiame pavakarieniauti ir tada jaukiai pabedrauti. \nSusitikimo trukmė – 18.00 – 20.00 val. \nVietų skaičius ribotas. Būtina registracija. \nVietos rezervacijos mokestis 10 eur. (Vakarienės kaina neįskaičiuota) \nSusitikimo vieta – „Holigans“ Restoranas Vilniuje\, Verkių g. 27. \nREGISTRACIJA \nJeigu turite klausimų rašykite: egle@
URL:https://sveikuoliai.lt/renginys/100-kartu-kartoji-o-atrodo-kad-taves-niekas-negirdi/
CATEGORIES:Sveikuolių sąjungos renginiai
ATTACH;FMTTYPE=image/jpeg:https://sveikuoliai.lt/wp-content/uploads/2024/01/DSC_3214.jpg
END:VEVENT
BEGIN:VEVENT
DTSTART;TZID=Europe/Vilnius:20240118T235900
DTEND;TZID=Europe/Vilnius:20240119T020000
DTSTAMP:20260420T070356
CREATED:20231120T171907Z
LAST-MODIFIED:20240131T192828Z
UID:45851-1705622340-1705629600@sveikuoliai.lt
SUMMARY:Naktinės maudynės stebuklingame vandenyje 2024
DESCRIPTION:Atgimkime\, įveikime save ir pasikrikštykime stebuklingai šventame vandenyje!\nSausio 19 d. keletui valandų visas Žemės vanduo taps stebuklingas. Manoma\, kad toks vanduo gali išgydyti ir sunkiausias ligas. Veikiamas energetinių Visatos srautų\, ypatingos galios vanduo įgauna tris kartus per metus: sausio 19-osios\, vasario 15-osios ir birželio 24-osios naktimis.\nNuo šių maudynių prasideda 30 dienų iššūkis\, kiekvieną dieną eketėje\, visas 30 dienų.\n\nVideo iš buvusių naktinių maudynių:\nhttps://www.youtube.com/watch?v=NOaZm8ZOVKA&t=107s\n\n\nVILNIUJE:\nMaudynės bus prie Žaliųjų ežerų\, naktį iš sausio 18 į 19 dieną. Renkamės 23:59 ir apie 00:30 neriam į ledinį vandenį\, eketę rasite ir atvyke vėliau\, bet legendos sako\, kad vanduo būna šventas iki 02:00!\n\nRADVILIŠKYJE:\n23:59:00 val. Eibariškių parko tvenkinyje / Tadas Grimaila\nVilniečių maudynių entuziastų grupė:\nhttps://www.facebook.com/groups/603754473708125/\nP.S. Patartina su savimi pasiimti rankšluostį ir tapkutes\, kad nepriliptumėt prie ledo.\n\nP.P.S. Nusiteikite dideliam srautui žmonių ir kooperuokitės į automobilius\, kad jų būtų kuo mažiau.
URL:https://sveikuoliai.lt/renginys/naktines-maudynes-stebuklingame-vandenyje-2024/
ATTACH;FMTTYPE=image/jpeg:https://sveikuoliai.lt/wp-content/uploads/2023/11/Naktines-maudynes-2024-baneris-VIlnius-stebuklingame-vandenyje.jpg
ORGANIZER;CN="Lietuvos sveikuoli%C5%B3 s%C4%85junga":MAILTO:simonas@sveikuoliai.lt
END:VEVENT
BEGIN:VEVENT
DTSTART;TZID=Europe/Vilnius:20240126T180000
DTEND;TZID=Europe/Vilnius:20240126T210000
DTSTAMP:20260420T070356
CREATED:20231126T102342Z
LAST-MODIFIED:20251124T140922Z
UID:45959-1706292000-1706302800@sveikuoliai.lt
SUMMARY:Webinaras tėvams "Kaip padėti savo vaikui grąžinti regėjimą natūraliais būdais?"
DESCRIPTION:Tėvai\, iš gydytojų išgirdę apie sutrikusį vaiko regėjimą\, dažnai išsigąsta ir greitai priima siūlomą sprendimą uždėti akinius ar operuotis. Tik vėliau\, matydami ir suprasdami\, kad akiniai regėjimo negerina\, kad reikia stiprinti akinukus\, o žvairumui panaikinti neretai neužtenka vienos operacijos\, pradeda ieškoti daugiau informacijos. \nŠis webinaras skirtas tėvams\, auginantiems mažamečius vaikus (0-10 m.) su regėjimo sutrikimais: trumparegystė\, toliaregystė\, žvairumas\, akis „tinginė“\, astigmatizmas\, nistagmas\, fotofobija ir pan. Taip pat toms šeimoms\, kurios ieško kitokių būdų nei akiniai ar operacijos padėti savo vaikams. \nŽinomas amerikiečių gydytojas oftalmologas V. H. Beitsas tvirtino\, kad neuždėjus vaikams akinių\, regėjimą galima sugrąžinti vos per keletą savaičių. Kartais tai užtrunka 6-12 mėnesių\, tačiau vaikams iki 12 metų gerą regėjimą beveik visada galima sugrąžinti natūraliai. \nKalbėsime apie: \n\npagrindines priežastis\, dėl kurių sutrinka vaikų regėjimas\nkodėl akiniai nepadeda susigrąžinti gero regėjimo\nefektyvias priemones ir būdus\, padedančius vaikams gerinti regėjimą natūraliai\n\nNagrinėsime kiekvieną istoriją individualiai ir ieškosime individualių sprendimų. \nTrukmė – 3 val. \nVieta: Zoom platforma. Užsiregistravusieji gaus laiškus su prisijungimu likus 30 min iki susitikimo pradžios \nWebinarą veda: Sigita Labutienė\, Lietuvos sveikuolių sąjungos valdybos narė\, regėjimo gerinimo stovyklų pradininkė šalyje\, sertifikuota V. H. Beitso metodo mokytoja. \nPaskaitos įrašas BUS \nKaina 59 eur \nREGISTRACIJA \nDaugiau informacijos: \nsigita@\, tel: +37065631211
URL:https://sveikuoliai.lt/renginys/webinaras-tevams-kaip-padeti-savo-vaikui-grazinti-regejima-naturaliais-budais-5/
END:VEVENT
END:VCALENDAR