BEGIN:VCALENDAR
VERSION:2.0
PRODID:-//Sveikuoliai - ECPv6.13.0//NONSGML v1.0//EN
CALSCALE:GREGORIAN
METHOD:PUBLISH
X-WR-CALNAME:Sveikuoliai
X-ORIGINAL-URL:https://sveikuoliai.lt
X-WR-CALDESC:Sveikuoliai renginiai
REFRESH-INTERVAL;VALUE=DURATION:PT1H
X-Robots-Tag:noindex
X-PUBLISHED-TTL:PT1H
BEGIN:VTIMEZONE
TZID:Europe/Vilnius
BEGIN:DAYLIGHT
TZOFFSETFROM:+0200
TZOFFSETTO:+0300
TZNAME:EEST
DTSTART:20240331T010000
END:DAYLIGHT
BEGIN:STANDARD
TZOFFSETFROM:+0300
TZOFFSETTO:+0200
TZNAME:EET
DTSTART:20241027T010000
END:STANDARD
END:VTIMEZONE
BEGIN:VEVENT
DTSTART;TZID=Europe/Vilnius:20240302T120000
DTEND;TZID=Europe/Vilnius:20240302T160000
DTSTAMP:20260421T170552
CREATED:20230225T163716Z
LAST-MODIFIED:20240301T040434Z
UID:42006-1709380800-1709395200@sveikuoliai.lt
SUMMARY:25 metrų plaukimas ekete 2024 | Trakai
DESCRIPTION:Įveik save! \n\n\n\n\nVIETA: Trakuose\, ant Galvės ežero\, priešais Trakų pilį\n\nDATA: 2024-03-02\nLAIKAS: 12:00 – 16:00 val.\nPlaukimas vyks net ir be ledo! Kaip? Žiūrėk video\n\nJau septintus metus iš eilės organizuojam 25 metrų eketės plaukimo varžybas! Per šiuos 7 metus maudynės lediniame vandenyje išpopuliarėjo neberįžtamai ir tokie renginiai tapo reikalingi kaip ledas šalto vandens mėgėjams. Čia mes susitinkam\, pasivaržom\, įrodom sau\, kad galim aplenkti pernykštį save. Nėra laiko ilsėtis\, reikia treniruoti raumenukus ir pratintis prie ledinio vandens. Skubėk registruotis\, nes vietų kiekis ribotas!​ Renginio tikslas – populiarinti maudynes lediniame vandenyje\, stiprinti imunitetą\, gerinti sveikatą ir fizinę ištvermę. \nVaržybų nuostatai: čia. \nDALYVIŲ LAUKS: \n\nAtminimo medalis visiems įveikusiems 25 metrus ekete;\nDovanos prizininkams;\nVieta šildomoje persirengimo palapinėje;\nLedinės nuotraukos;\nPuodelis šiltos arbatos;\nPergalė prieš patį save.\n\nPATARIAME TURĖTI: \n\nTapkutes;\nRankšluostį;\nGreitai apsirengiamą aprangą.\n\n \n  \nDALYVIŲ SKAIČIUS RIBOJAMAS! \nKaina: \n30€ kaina renginio dieną \n  \n 
URL:https://sveikuoliai.lt/renginys/25-metru-plaukimas-ekete-2024-trakai/
CATEGORIES:Sveikuolių sąjungos renginiai
ATTACH;FMTTYPE=image/jpeg:https://sveikuoliai.lt/wp-content/uploads/2023/02/25-metrai-ekete-2024.jpg
END:VEVENT
BEGIN:VEVENT
DTSTART;TZID=Europe/Vilnius:20240324T120000
DTEND;TZID=Europe/Vilnius:20240324T150000
DTSTAMP:20260421T170552
CREATED:20240125T084829Z
LAST-MODIFIED:20240322T090209Z
UID:47159-1711281600-1711292400@sveikuoliai.lt
SUMMARY:Laumių maudynės. Žalčių budinimo šventė
DESCRIPTION:Pavasario lygiadienis yra ypatingas laikotarpis\, kai dienos ir nakties trukmė yra vienoda – tai senovinė\, jau primiršta\, tačiau vėl atgimstanti tradicija\, lydima dainomis\, gamtos žadinimo apeigomis bei tradicijomis. Senovės lietuvių baltų kultūroje\, pavasario lygiadienis buvo svarbus laikotarpis\, švenčiantis gamtos atgimimą\, šviesos pergalę prieš tamsą ir atėjusį pavasario šventimą. Pavasario lygiadienis – labai svarbi senovės lietuvių baltų kultūros paveldi dalis. \nŠi šventė susijusi su pavasariu\, žalčiais ir vandeniu. Renginio vieta būdavo pasirinkta gamtos apsuptyje – miško\, pievos ar upės pakrantėje\, kad būtų galima pajusti ryšį su gamta\, vandeniu – kaip gyvybės atgimimo simboliu. \nSenovės lietuvių baltų kultūroje yra daug mitų ir legendų apie gyvūnus\, kurie turėjo ypatingą reikšmę\, o vienas iš jų yra žaltys. Žalčiai laikyti šventais gyvūnais\, susijusiais su gamtos ir gyvybės ciklų simbolika. Remiantis senosiomis tradicijomis\, žalčių žadinimas simboliškai būdavo laikomas gamtos atgimimo apeigos dalimi. Na o kas gi geriau gali pažadinti žalčius\, nei laumės? \nManoma\, kad įvairių senovės kultūrų žmonės per pavasario lygiadienį švęsdavo ir Naujųjų metų pradžią. Lietuviai tikėjo\, kad pavasario lygiadienio rytą išsimaudžius upėje\, tekančioje į rytus (nes tądien saulė teka tiksliai rytuose)\, būsi tyras ir sveikas visus metus. Ši astronominė data buvo pažymima apeigomis\, dainomis bei šokiais. \nPasirinkome ypatingą vietą – Asvejos ežero pakrantę. Asveja\, kitaip vadinama Alka (senovinė šventvietė) apsupta begale protėviams svarbių vietų – piliakalniais\, pilkapiais\, jos vanduo buvo laikomas šventu. \nKą veiksime šventėje? \n\npažinsime senuosius papročius ir protėvių išmintį;\ndalyvausime senovinėse apeigose žadinant gamtą ir kviečiant gamtą atbusti;\nkviesime visas šių dienų “laumes” simboliškai pažadinti žalčius\, pranešant jiems\, kad jau metas busti;\ndainuosime baltiškas dainas\, sutartines\, grosime būgnais;\nšoksime;\nvisi norintys atnaujinsime kūną ir sielą pasinerdami į šventą Asvejos vandenį\, mažiau drąsius kviesime apsiprausti rankas\, veidą\, basomis budinti žemę;\nvaišinsimės karšta kvapnia arbata\, medumi\, pyragu;\ndalinsimės įpūdžiais ir gera nuotaika.\n\nRenginio vieta: Dubingiai\, Asvejos ežero pakrantė prie Dubingių pilievietės\, Asvejos regioninio parko lankytojų centro salė. \nDalyviai: labai kviečiame dalyvauti visas laumes\, joms prijaučiančias\, laumių vyrus\, draugus ir visus šeimos narius. \nRenginio kaina: 16 eur. Vaikams iki 12 metų – nemokamai. VISI DALYVIAI bandys loterijos būdu laimėti labai ypatingą dovaną – specialiai GIEDRAŽOLĖS sukurtą renginiui “Žalčio palaiminimą”. \n \nĮ renginio kainą įeina: apeigos\, pramogos\, apeiginės maudynės\, vaišės (arbata\, pyragas)\, parko lankytojo mokestis. \nMaudynės: Kviečiame drąsiausias “laumes” ritualo metu pasinerti į šventą ežero vandenį dėvint baltai (suknelė\, marškiniai\, skara) arba tiesiog maudymosi kostiumėlį. Visi vyrai ir vaikai taip pat kviečiami maudynių ritualui. Mažiau drąsius kviesime apsiprausti veidą ar basomis budinti žemę. Po maudynių sušilti\, persirengti bus galima Lankytojų centro salėje su židiniu\, kur toliau tęsime šventę. \nREGISTRACIJA\n \nJeigu turite klausimų kreipkitės:\n+370 648 00948
URL:https://sveikuoliai.lt/renginys/laumiu-maudynes-zalciu-budinimo-svente/
CATEGORIES:Sveikuolių sąjungos renginiai
ATTACH;FMTTYPE=image/jpeg:https://sveikuoliai.lt/wp-content/uploads/2024/01/2024-m.-KOVO-24d.-1200.jpg
END:VEVENT
END:VCALENDAR