BEGIN:VCALENDAR
VERSION:2.0
PRODID:-//Sveikuoliai - ECPv6.13.0//NONSGML v1.0//EN
CALSCALE:GREGORIAN
METHOD:PUBLISH
X-WR-CALNAME:Sveikuoliai
X-ORIGINAL-URL:https://sveikuoliai.lt
X-WR-CALDESC:Sveikuoliai renginiai
REFRESH-INTERVAL;VALUE=DURATION:PT1H
X-Robots-Tag:noindex
X-PUBLISHED-TTL:PT1H
BEGIN:VTIMEZONE
TZID:Europe/Vilnius
BEGIN:DAYLIGHT
TZOFFSETFROM:+0200
TZOFFSETTO:+0300
TZNAME:EEST
DTSTART:20250330T010000
END:DAYLIGHT
BEGIN:STANDARD
TZOFFSETFROM:+0300
TZOFFSETTO:+0200
TZNAME:EET
DTSTART:20251026T010000
END:STANDARD
END:VTIMEZONE
BEGIN:VEVENT
DTSTART;TZID=Europe/Vilnius:20251128T180000
DTEND;TZID=Europe/Vilnius:20251130T120000
DTSTAMP:20260425T160345
CREATED:20241105T092117Z
LAST-MODIFIED:20251016T084744Z
UID:50420-1764352800-1764504000@sveikuoliai.lt
SUMMARY:KALĖDINIS SĄSKRYDIS | DVARČĖNAI
DESCRIPTION:Kviečiame visus ledinių ekečių organizatorius\, stovyklų savanorius\, klubų vadovus ir aktyvius klubų narius\, lektorius\, nuolatinius narius-rėmėjus dalyvauti tradiciniame žiemos susibūrime lapkričio 28-30 d. Dvarčėnuose. \nTai bus smagus susipažinimo\, bendravimo\, savęs gilesnio pažinimo ir atsiplaidavimo laikas sodyboje\, kur vyksta didžiausios mūsų stovyklos. Darysime kalėdinius vainikus\, dalyvausime terapiniuose savęs pažinimo užsiėmimuose\, dalinsimės idėjomis\, pasiekimais ir vertingomis įžvagomis kitų metų veiklai.  Diskusijų grupelėse ieškosime sprendimų\, susitarimų ir\, žinoma\, kursime didesnį bendrystės jausmą. \nSusitikime dalyvaus Lietuvos sveikuolių sąjungos garbės ir valdybos nariai\, prezidentas\, renginių ir stovyklų organizatoriai\, kurie jau daug metų dalinasi savo patirtimi sveikos gyvensenos srityje ir savo pavyzdžiu motyvuoja įvairaus amžiaus žmones rinktis sveikesnį gyvenimo būdą. \nSavaitgalio programoje:: \n✅ Pirtis\n✅ Savęs pažinimo praktikos\n✅ Kalėdinės dirbtuvės\n✅ Pokalbiai\, diskusijos\n✅ Bendra fotosesija\n  \nTVARKARAŠTIS\nLapkričio 28 d. (penktadienis)\n\n18.00-19.00 – atvykimas;\n19.00-22.00 – pirtis\, susipažinimas;\n\nLapkričio 29 d. (šeštadienis)\n\n7.00-8.00 – mankšta\, grūdinimosi procedūros;\n8.00-9.00 – pusryčiai;\n9.00-10.00 – susipažinimas grupėse;\n10.00-12.00 – savęs pažinimo pratybos;\n12.00-13.00 – pietūs;\n13.00-14.00 – fotosesija;\n14.00-17.00 – Kalėdinės dirbtuvės;\n17.00-20.00 – pasiruošimas šventinei vakarienei\, vakarienė;\n20.00-22.00 – bendravimas.\n\nLapkričio 30 d. (sekmadienis) \n\n7.00-8.00 – mankšta\, grūdinimosi procedūros;\n9.00-10.00 – pusryčiai;\n10.00-12.00 – susitikimo aptarimas\, įspūdžių pasidalinimas;\nnuo 12.00 išvykimas.\n\nKaip pasiruošti\, ką turėti su savimi: \n\n\n\nTinkanti sportinė apranga\, avalynė\, reikmenys pirčiai\, maudymosi kostiumėliai\, higienos reikmenys\, šiltos kojinės (patalpose vaikštoma be batų);\nPatiekalai/gėrimai/užkandžiai šventiniam stalui (suneštinis);\nPriemonės kalėdinėms dirbtuvėms: kartoninės dėžės\, žirklės\, karšti klijai\, siūlai\, žvakės\, servėtėlės žvakių dekupažui\, natūralios dekoracijos vainikams (džiovinti vaisiai\, gilės\, konkorėčiai ir t.t.).\n\n\n\nREGISTRACIJOS MOKESTIS: \n25 EUR \n✅ Renginyje galima dalyvauti su vaikais. \nMaitinimu renginio metu rūpinasi organizatoriai. \n✅REGISTRACIJOS MOKESTIS NETAIKOMAS: \n🔷 LSS GARBĖS nariams ir jų šeimoms; \n🔷 LSS VALDYBOS nariams ir jų šeimoms; \n🔷 LSS NARIŲ (KLUBŲ/ĮSTAIGŲ) vadovams ir jų šeimos nariams; \n🔷 METŲ SAVANORIO statusą turintiems bendruomenės nariams \n\nREGISTRUOTIS DABAR
URL:https://sveikuoliai.lt/renginys/savanoriu-saskrydis-dvarcenai/
ATTACH;FMTTYPE=image/jpeg:https://sveikuoliai.lt/wp-content/uploads/2014/09/kupinas-emociju-ir-purvo-sveikuo.jpg
END:VEVENT
END:VCALENDAR